BEGIN:VCALENDAR
PRODID:NingEventWidget-v1
VERSION:2.0
METHOD:PUBLISH
BEGIN:VTIMEZONE
TZID:Europe/Paris
X-LIC-LOCATION:Europe/Paris
BEGIN:DAYLIGHT
TZOFFSETFROM:+0100
TZOFFSETTO:+0200
TZNAME:CEST
DTSTART:19700329T020000
RRULE:FREQ=YEARLY;BYMONTH=3;BYDAY=-1SU
END:DAYLIGHT
BEGIN:STANDARD
TZOFFSETFROM:+0200
TZOFFSETTO:+0100
TZNAME:CET
DTSTART:19701025T030000
RRULE:FREQ=YEARLY;BYMONTH=10;BYDAY=-1SU
END:STANDARD
END:VTIMEZONE
BEGIN:VEVENT
UID:2485226:Event:851980
DTSTAMP:20260421T171655Z
SUMMARY:UniversitÃ© de l'environnement et de la santÃ©, organisÃ©e par
  les Chantiers du Futur
DESCRIPTION:Une semaine de confÃ©rences + salon bien-ÃªtreÂ \nmardi 3Â
  juilletÂ :\n- de 8 h Ã  9 h : AÃ¯kido + ShutaÃ¯do\n- de 9 h Ã  10 h 3
 0 : Patrice Bossut : la vitamine D, hormone de croissance\n- de 11 h Ã
   12 h 30 : Yves Baccichetti : Le silicium, la prÃªle et la vie\nPour 
 mieux connaÃ®tre les confÃ©renciers et leurs thÃ¨mes : voir le site\nP
 ossibilitÃ© de prendre les repas sur place\nPour l'hÃ©bergement : voir
  le site\nIl est possible d'assister toute la semaine, ou de choisir u
 ne confÃ©rence, ou d'acheter un carnet de 10 confÃ©rences.\nÂ \n\nPour
  plus d'information, aller sur https://epanews.fr/events/universit-de-
 l-environnement-et-de-la-sant-organis-par-les-2
DTSTART;TZID=Europe/Paris:20120703T080000
DTEND;TZID=Europe/Paris:20120703T123000
CATEGORIES:tous
LOCATION:Saintes
WEBSITE:http://www.leschantiersdufutur.new.fr
URL:http://www.leschantiersdufutur.new.fr
CONTACT:06 20 79 58 35
ORGANIZER;CN=essentiel:https://epanews.fr/profile/essentiel
ATTACH;FMTTYPE="image/jpeg":
ATTENDEE;ROLE=REQ-PARTICIPANT;PARTSTAT=ACCEPTED;RSVP=TRUE;CN=essentiel
 :https://epanews.fr/profile/essentiel
END:VEVENT
END:VCALENDAR
