BEGIN:VCALENDAR
PRODID:NingEventWidget-v1
VERSION:2.0
METHOD:PUBLISH
BEGIN:VTIMEZONE
TZID:Europe/Paris
X-LIC-LOCATION:Europe/Paris
BEGIN:DAYLIGHT
TZOFFSETFROM:+0100
TZOFFSETTO:+0200
TZNAME:CEST
DTSTART:19700329T020000
RRULE:FREQ=YEARLY;BYMONTH=3;BYDAY=-1SU
END:DAYLIGHT
BEGIN:STANDARD
TZOFFSETFROM:+0200
TZOFFSETTO:+0100
TZNAME:CET
DTSTART:19701025T030000
RRULE:FREQ=YEARLY;BYMONTH=10;BYDAY=-1SU
END:STANDARD
END:VTIMEZONE
BEGIN:VEVENT
UID:2485226:Event:851989
DTSTAMP:20260422T170657Z
SUMMARY:Université de l'environnement et de la santé organisée par 
 les Chantiers du Futur
DESCRIPTION:Une semaine de conférences + salon bien-être + concert l
 e dimanche soir\nsamedi 30 juin :\n- de 14h 30 à 16 h : Jean-Jacques 
 Crevecoeur : La physique quantique au service de la guérison\n- de 17
  h à 19 h : jean-Jacques Crèvecoeur : Mettre l'alchimie au coeur de 
 nos vies\nPossibilité de prendre les repas sur place\nPour l'héberge
 ment : voir le site\nPour mieux connaître les conférenciers, voir le
  site\nPossibilité de prendre l'abonnement pour la semaine, ou un car
 net de 10 tickets ou choisir une conférence qui vous plaît. Voir le 
 site\n \n\nPour plus d'information, aller sur https://epanews.fr/even
 ts/universit-de-l-environnement-et-de-la-sant-organis-e-par-les-2
DTSTART;TZID=Europe/Paris:20120630T120000
DTEND;TZID=Europe/Paris:20120630T200000
CATEGORIES:tous
LOCATION:Saintes
WEBSITE:http://www.leschantiersdufutur.new.fr
URL:http://www.leschantiersdufutur.new.fr
CONTACT:06 20 79 58 35
ORGANIZER;CN=essentiel:https://epanews.fr/profile/essentiel
ATTACH;FMTTYPE="image/jpeg":
ATTENDEE;ROLE=REQ-PARTICIPANT;PARTSTAT=ACCEPTED;RSVP=TRUE;CN=essentiel
 :https://epanews.fr/profile/essentiel
END:VEVENT
END:VCALENDAR
