BEGIN:VCALENDAR
PRODID:NingEventWidget-v1
VERSION:2.0
METHOD:PUBLISH
BEGIN:VTIMEZONE
TZID:Europe/Paris
X-LIC-LOCATION:Europe/Paris
BEGIN:DAYLIGHT
TZOFFSETFROM:+0100
TZOFFSETTO:+0200
TZNAME:CEST
DTSTART:19700329T020000
RRULE:FREQ=YEARLY;BYMONTH=3;BYDAY=-1SU
END:DAYLIGHT
BEGIN:STANDARD
TZOFFSETFROM:+0200
TZOFFSETTO:+0100
TZNAME:CET
DTSTART:19701025T030000
RRULE:FREQ=YEARLY;BYMONTH=10;BYDAY=-1SU
END:STANDARD
END:VTIMEZONE
BEGIN:VEVENT
UID:2485226:Event:2333848
DTSTAMP:20260423T203148Z
SUMMARY:Unisson l'unité par le son
DESCRIPTION:UNISSON Une Expérience Multi sensorielleRéservation à l
 a Villa du Yoga - Places LimitéesTarif : 15 euros\n\nPour plus d'info
 rmation, aller sur https://epanews.fr/events/unisson-l-unit-par-le-son
 -1
DTSTART;TZID=Europe/Paris:20150627T174500
DTEND;TZID=Europe/Paris:20150627T191500
CATEGORIES:83
LOCATION:La Villa du Yoga
WEBSITE:http://www.lavilladuyoga.fr/
URL:http://www.lavilladuyoga.fr/
CONTACT:0682638214
ORGANIZER;CN=unisson:https://epanews.fr/profile/unisson
ATTACH;FMTTYPE="image/jpeg":
ATTENDEE;ROLE=REQ-PARTICIPANT;PARTSTAT=ACCEPTED;RSVP=TRUE;CN=unisson:h
 ttps://epanews.fr/profile/unisson
END:VEVENT
END:VCALENDAR
