BEGIN:VCALENDAR
PRODID:NingEventWidget-v1
VERSION:2.0
METHOD:PUBLISH
BEGIN:VTIMEZONE
TZID:Europe/Paris
X-LIC-LOCATION:Europe/Paris
BEGIN:DAYLIGHT
TZOFFSETFROM:+0100
TZOFFSETTO:+0200
TZNAME:CEST
DTSTART:19700329T020000
RRULE:FREQ=YEARLY;BYMONTH=3;BYDAY=-1SU
END:DAYLIGHT
BEGIN:STANDARD
TZOFFSETFROM:+0200
TZOFFSETTO:+0100
TZNAME:CET
DTSTART:19701025T030000
RRULE:FREQ=YEARLY;BYMONTH=10;BYDAY=-1SU
END:STANDARD
END:VTIMEZONE
BEGIN:VEVENT
UID:2485226:Event:1879578
DTSTAMP:20260422T075339Z
SUMMARY:Une parenthèse au jardin - Atelier de création de cosmétiqu
 es naturels
DESCRIPTION:Offrez-vous une parenthèse au jardin... Sylvaine vous pro
 pose de vivre des petits instants \"hors du temps\" de convivialité e
 t de partage dans son jardin « La Pâture es Chênes » à Hénon (Be
 au Soleil, D1 Quessoy-Moncontour).\nMercredi 23 avril, de 14h30 à 17h
 30 : visite du jardin, et découverte des fleurs et plantes pour la pe
 au. Cueillette, et création d'une crème visage ou corps à emporter 
 chez soi. Sur réservation 35 €/pers.\nContact : 06 83 88 39 60, s
 ylvaine@lapatureeschenes.fr, www.lapatureeschenes.fr\n\nPour plus d'in
 formation, aller sur https://epanews.fr/events/une-parenth-se-au-jardi
 n-atelier-de-cr-ation-de-cosm-tiques
DTSTART;TZID=Europe/Paris:20140423T143000
DTEND;TZID=Europe/Paris:20140423T173000
CATEGORIES:22
LOCATION:La Pâture es Chênes
WEBSITE:http://www.lapatureeschenes.fr
URL:http://www.lapatureeschenes.fr
CONTACT:06 83 88 39 60
ORGANIZER;CN="Sylvaine Alnot":https://epanews.fr/profile/SylvaineAlnot
ATTACH;FMTTYPE="image/jpeg":http://storage.ning.com/topology/rest/1.0/
 file/get/1663116958?profile=original
ATTENDEE;ROLE=REQ-PARTICIPANT;PARTSTAT=ACCEPTED;RSVP=TRUE;CN="Sylvaine
  Alnot":https://epanews.fr/profile/SylvaineAlnot
END:VEVENT
END:VCALENDAR
