BEGIN:VCALENDAR
PRODID:NingEventWidget-v1
VERSION:2.0
METHOD:PUBLISH
BEGIN:VTIMEZONE
TZID:Europe/Paris
X-LIC-LOCATION:Europe/Paris
BEGIN:DAYLIGHT
TZOFFSETFROM:+0100
TZOFFSETTO:+0200
TZNAME:CEST
DTSTART:19700329T020000
RRULE:FREQ=YEARLY;BYMONTH=3;BYDAY=-1SU
END:DAYLIGHT
BEGIN:STANDARD
TZOFFSETFROM:+0200
TZOFFSETTO:+0100
TZNAME:CET
DTSTART:19701025T030000
RRULE:FREQ=YEARLY;BYMONTH=10;BYDAY=-1SU
END:STANDARD
END:VTIMEZONE
BEGIN:VEVENT
UID:2485226:Event:2985309
DTSTAMP:20260421T013143Z
SUMMARY:Une nouvelle approche des constellations - Conférence découv
 erte
DESCRIPTION:\nPour aller plus loin vers Soi m'Aime, des constellations
  qui travaillent sur le réalignement du corps physique avec ton âme 
 et ton esprit.\nUn travail en duo qui permet de bénéficier d'un cham
 p de transformation beaucoup plus large.\n\nPour plus d'information, a
 ller sur https://epanews.fr/events/une-nouvelle-approche-des-constella
 tions-conf-rence-d-couverte
DTSTART;TZID=Europe/Paris:20181012T183000
DTEND;TZID=Europe/Paris:20181012T210000
CATEGORIES:13
LOCATION:Le Soleil Intérieur Marseille
WEBSITE:http://www.danslesracineslesetoiles.com
URL:http://www.danslesracineslesetoiles.com
CONTACT:07 86 56 13 36 ou etoilesracines@gmail.com
ORGANIZER;CN=Danslesracineslesetoiles:https://epanews.fr/profile/Dansl
 esracineslesetoiles
ATTACH;FMTTYPE="image/jpeg":http://storage.ning.com/topology/rest/1.0/
 file/get/1663758902?profile=original
ATTENDEE;ROLE=REQ-PARTICIPANT;PARTSTAT=ACCEPTED;RSVP=TRUE;CN=Danslesra
 cineslesetoiles:https://epanews.fr/profile/Danslesracineslesetoiles
END:VEVENT
END:VCALENDAR
