BEGIN:VCALENDAR
PRODID:NingEventWidget-v1
VERSION:2.0
METHOD:PUBLISH
BEGIN:VTIMEZONE
TZID:Europe/Paris
X-LIC-LOCATION:Europe/Paris
BEGIN:DAYLIGHT
TZOFFSETFROM:+0100
TZOFFSETTO:+0200
TZNAME:CEST
DTSTART:19700329T020000
RRULE:FREQ=YEARLY;BYMONTH=3;BYDAY=-1SU
END:DAYLIGHT
BEGIN:STANDARD
TZOFFSETFROM:+0200
TZOFFSETTO:+0100
TZNAME:CET
DTSTART:19701025T030000
RRULE:FREQ=YEARLY;BYMONTH=10;BYDAY=-1SU
END:STANDARD
END:VTIMEZONE
BEGIN:VEVENT
UID:2485226:Event:1134273
DTSTAMP:20260422T151122Z
SUMMARY:Une journée de retraite pour méditer
DESCRIPTION:Faire l’expérience de la paix intérieure grâce à la 
 méditation bouddhiste. Se retirer de l’agitation de la ville, profi
 ter d’une journée de détente, apprendre des techniques pour rempla
 cer nos pensées négatives par des pensées positives et pour gérer 
 le stress du quotidien.\n Thème du 3 février: “La colère ne réso
 ut rien”.\n Thème du 16 février: “L’amour a le dernier mot
 .\n  Chaque journée comprend des enseignements et des méditations
  guidées par Guèn Eupamé et Kelsang Tonpa, enseignant de Paris.\nHo
 raires: 10h-16h30.\n 55€ pour les 2 journées des 3 et 16 février (
 50€ tarif réduit) ou 30€ la journée (25€ tarif réduit), repas
  non compris.\n\nPour plus d'information, aller sur https://epanews.fr
 /events/une-journe-e-de-retraite-pour-me-diter
DTSTART;TZID=Europe/Paris:20130203T100000
DTEND;TZID=Europe/Paris:20130203T163000
CATEGORIES:75
LOCATION:Forum 104
WEBSITE:http://meditation-paris.org/evenements/une-journee-pour-medite
 r/
URL:http://meditation-paris.org/evenements/une-journee-pour-mediter/
CONTACT:0981924712
ORGANIZER:Centre bouddhiste Kadampa Shakyamouni
ATTACH;FMTTYPE="image/jpeg":http://storage.ning.com/topology/rest/1.0/
 file/get/1662743788?profile=original
ATTENDEE;ROLE=REQ-PARTICIPANT;PARTSTAT=ACCEPTED;RSVP=TRUE;CN=shakyamou
 n1:https://epanews.fr/profile/shakyamoun1
END:VEVENT
END:VCALENDAR
