BEGIN:VCALENDAR
PRODID:NingEventWidget-v1
VERSION:2.0
METHOD:PUBLISH
BEGIN:VTIMEZONE
TZID:Europe/Paris
X-LIC-LOCATION:Europe/Paris
BEGIN:DAYLIGHT
TZOFFSETFROM:+0100
TZOFFSETTO:+0200
TZNAME:CEST
DTSTART:19700329T020000
RRULE:FREQ=YEARLY;BYMONTH=3;BYDAY=-1SU
END:DAYLIGHT
BEGIN:STANDARD
TZOFFSETFROM:+0200
TZOFFSETTO:+0100
TZNAME:CET
DTSTART:19701025T030000
RRULE:FREQ=YEARLY;BYMONTH=10;BYDAY=-1SU
END:STANDARD
END:VTIMEZONE
BEGIN:VEVENT
UID:2485226:Event:2175744
DTSTAMP:20260425T171140Z
SUMMARY:Un Soin qui rÃ©vÃ¨le votre BeautÃ© intÃ©rieure
DESCRIPTION:DÃ©couverte du Soin phyto-energÃ©tiqueÂ \nBasÃ© sur la MÃ©
 decine traditionnelle chinoise, ce soin allie beautÃ© et bien Etre. Ph
 ysique et Ã©motionnel sont pris en charge d'autant plus que le soin pe
 ut Ãªtre personnalisÃ© en fonction de votre biorythme ... La date de l
 'atelier est volontairement comprise dans la pÃ©riode dite de \"l'inte
 r-saison\" qui est un moment propice Ã  la rÃ©ceptivitÃ© ...\nProfil Ã
 ©nergÃ©tique offert\nPublic fÃ©minin, 10 euros, sur rÃ©servation par t
 el, merci\n\nPour plus d'information, aller sur https://epanews.fr/eve
 nts/un-soin-qui-r-v-le-votre-beaut-int-rieure
DTSTART;TZID=Europe/Paris:20150125T150000
DTEND;TZID=Europe/Paris:20150125T170000
CATEGORIES:75, 92
LOCATION:Levallois-Perret
WEBSITE:http://www.gueriraufeminin.com
URL:http://www.gueriraufeminin.com
CONTACT:06.24.93.77.98
ORGANIZER;CN="La Griotte":https://epanews.fr/profile/LaGriotte
ATTACH;FMTTYPE="image/jpeg":http://storage.ning.com/topology/rest/1.0/
 file/get/1663297903?profile=original
ATTENDEE;ROLE=REQ-PARTICIPANT;PARTSTAT=ACCEPTED;RSVP=TRUE;CN="La Griot
 te":https://epanews.fr/profile/LaGriotte
END:VEVENT
END:VCALENDAR
