BEGIN:VCALENDAR
PRODID:NingEventWidget-v1
VERSION:2.0
METHOD:PUBLISH
BEGIN:VTIMEZONE
TZID:Europe/Paris
X-LIC-LOCATION:Europe/Paris
BEGIN:DAYLIGHT
TZOFFSETFROM:+0100
TZOFFSETTO:+0200
TZNAME:CEST
DTSTART:19700329T020000
RRULE:FREQ=YEARLY;BYMONTH=3;BYDAY=-1SU
END:DAYLIGHT
BEGIN:STANDARD
TZOFFSETFROM:+0200
TZOFFSETTO:+0100
TZNAME:CET
DTSTART:19701025T030000
RRULE:FREQ=YEARLY;BYMONTH=10;BYDAY=-1SU
END:STANDARD
END:VTIMEZONE
BEGIN:VEVENT
UID:2485226:Event:682388
DTSTAMP:20260422T061422Z
SUMMARY:Un PhÃ©nomÃ¨ne Extraordinaire: Les Crop Circles: Quels liens a
 vec 2012?
DESCRIPTION:CONFERENCE / PROJECTION\n10 euros\n\nPar : Patrice MARTY\n
 Â SpÃ©cialiste des Crop Circles, Patrice MARTY les Ã©tudie depuis plus
  de 25 ans. Il se rend chaque annÃ©e en Angleterre dans la rÃ©gion la 
 plus touchÃ©e par le phÃ©nomÃ¨ne, afin dâ€™analyser ces immenses dessi
 ns qui apparaissent en quelques secondes.\nÂ Quels messages dÃ©livrent
  les Crop Circles, alors que dâ€™anciens calendriers prÃ©sentent lâ€™a
 nnÃ©e 2012 comme marquant la fin du cycle actuel (celui du \"4Ã¨me Sol
 eil\") et le commencement dâ€™un nouveauÂ ? Est-ce en lien avec lâ€™Ã©
 mergence dâ€™une Nouvelle Conscience ?\nÂ Quelle relation faire entre 
 ces Â«Â temples Ã©phÃ©mÃ¨resÂ Â» et la situation astronomique au 21 dÃ
 ©cembre 2012Â ? Pourquoi le phÃ©nomÃ¨ne subit-il tant de dÃ©sinformati
 on?\nÂ \nAvec Projection des Crop Circles apparus en 2011 www.savoirpe
 rdu.com\nRESERVATION CONSEILLEE\nLou GARLONE 0610074574 ou info@terred
 eressources.com\nMaison du BÃ¢timent 344 Bd Michelet 13009 Marseille/M
 Ã©tro Rd Pt du Prado puis bus 21 ou 22\n\n\nPour plus d'information, a
 ller sur https://epanews.fr/events/un-ph-nom-ne-extraordinaire-les-cro
 p-circles-quels-liens-avec
DTSTART;TZID=Europe/Paris:20120219T100000
DTEND;TZID=Europe/Paris:20120219T123000
CATEGORIES:13
LOCATION:MARSEILLE
WEBSITE:
URL:
CONTACT:0610074574
ORGANIZER;CN="GARLONE Lou":https://epanews.fr/profile/GARLONELOU
ATTACH;FMTTYPE="image/jpeg":http://storage.ning.com/topology/rest/1.0/
 file/get/1662552989?profile=original
ATTENDEE;ROLE=REQ-PARTICIPANT;PARTSTAT=ACCEPTED;RSVP=TRUE;CN="GARLONE 
 Lou":https://epanews.fr/profile/GARLONELOU
END:VEVENT
END:VCALENDAR
