BEGIN:VCALENDAR
PRODID:NingEventWidget-v1
VERSION:2.0
METHOD:PUBLISH
BEGIN:VTIMEZONE
TZID:Europe/Paris
X-LIC-LOCATION:Europe/Paris
BEGIN:DAYLIGHT
TZOFFSETFROM:+0100
TZOFFSETTO:+0200
TZNAME:CEST
DTSTART:19700329T020000
RRULE:FREQ=YEARLY;BYMONTH=3;BYDAY=-1SU
END:DAYLIGHT
BEGIN:STANDARD
TZOFFSETFROM:+0200
TZOFFSETTO:+0100
TZNAME:CET
DTSTART:19701025T030000
RRULE:FREQ=YEARLY;BYMONTH=10;BYDAY=-1SU
END:STANDARD
END:VTIMEZONE
BEGIN:VEVENT
UID:2485226:Event:967982
DTSTAMP:20260420T111101Z
SUMMARY:un nouveau monde en marche bugarach , 2012 la fin du monde?
DESCRIPTION:14 OctobreProjection 15h30 !BUGARACHUN NOUVEAU MONDE EN MA
 RCHE Â Â» (film 1h20)LA FIN DU MONDE Â ?Depuis quelques mois, une rume
 ur Ã©trange se rÃ©pand, rÃ©percutÃ©e par les grands mÃ©dias : le calen
 drier Maya laisserait prÃ©voir la fin du monde pour le 21 dÃ©cembre 20
 122012 : BUGARACH, LA FIN DU MONDE ?Depuis quelques mois, une rumeur Ã
 ©trange se rÃ©pand, rÃ©percutÃ©e par les grands mÃ©dias : le calendrie
 r Maya laisserait prÃ©voir la fin du monde pour le 21 dÃ©cembre 2012.E
 t, rÃ©cente Â« information Â», un site serait prÃ©servÃ© : Bugarach.No
 us ne pouvions rester indiffÃ©rents. Plusieurs chercheurs en diverses 
 matiÃ¨res sâ€™expriment dans le film que nous vous prÃ©sentons.Ce film
  nâ€™a rien dâ€™un scÃ©nario catastrophe, au contraire.Les intervenant
 s sont dâ€™accord pour nier un dÃ©terminisme nous conduisant Ã  des ca
 tastrophes inÃ©vitables. Nombre dâ€™entre eux voient mÃªme, dans la pÃ
 ©riode agitÃ©e que vit notre planÃ¨te, lâ€™occasion de revenir aux val
 eurs fondamentales et de laisser le matÃ©rialisme ambiant Ã  une place
  plus modeste.Participation : 5 Euros\n\nPour plus d'information, alle
 r sur https://epanews.fr/events/un-nouveau-monde-en-marche-bugarach-20
 12-la-fin-du-monde
DTSTART;TZID=Europe/Paris:20121014T153000
DTEND;TZID=Europe/Paris:20121014T173000
CATEGORIES:11
LOCATION:RENNES LES BAINS
WEBSITE:
URL:
CONTACT:
ORGANIZER:DEBOWSKA PRODUCTION
ATTACH;FMTTYPE="image/jpeg":
ATTENDEE;ROLE=REQ-PARTICIPANT;PARTSTAT=ACCEPTED;RSVP=TRUE;CN=MIR:https
 ://epanews.fr/profile/MIR282
END:VEVENT
END:VCALENDAR
