BEGIN:VCALENDAR
PRODID:NingEventWidget-v1
VERSION:2.0
METHOD:PUBLISH
BEGIN:VTIMEZONE
TZID:Europe/Paris
X-LIC-LOCATION:Europe/Paris
BEGIN:DAYLIGHT
TZOFFSETFROM:+0100
TZOFFSETTO:+0200
TZNAME:CEST
DTSTART:19700329T020000
RRULE:FREQ=YEARLY;BYMONTH=3;BYDAY=-1SU
END:DAYLIGHT
BEGIN:STANDARD
TZOFFSETFROM:+0200
TZOFFSETTO:+0100
TZNAME:CET
DTSTART:19701025T030000
RRULE:FREQ=YEARLY;BYMONTH=10;BYDAY=-1SU
END:STANDARD
END:VTIMEZONE
BEGIN:VEVENT
UID:2485226:Event:2707882
DTSTAMP:20260422T111109Z
SUMMARY:Un envol du mouvement à la danse biodynamique
DESCRIPTION:\nUn Envol\ndu Mouvement à la Danse Biodynamique.\nAvec E
 stelle Fayat.\n\nAu Loft-Zen – Lyon Croix Rousse.\n\n>Atelier hebdom
 adaire - 1h (dès 17 ans) - Les mercredis de 12h15 à 13h15.\n\"Mouvem
 ent et Danse - le Corps animé.\"  Atelier découverte gratuit le Merc
 redi 14 septembre. Places limitées - inscriptions et réservations en
  me contactant.\n>Atelier individuel sur R.D.V.\nJ'ai choisit d'orient
 er mon parcours dans des pratiques spécifiques que sont la Danse et l
 'accompagnement Corporel. \"Bel'Oiseau\" me permet de partager mes pra
 tiques, avec chaque personne qui souhaite recouvrer un maximum de Cons
 cience, de Présence et de Liberté.\nJe vous propose de découvrir, d
 e Vivre, le Plaisir d’Être en Danse. Se laisser traverser par le Ry
 thme, la Mélodie, Se Relier à la Pulsation, Respirer la musique. Se 
 respirer,  Se laisser emporter par le mouvement du Corps, notre Expres
 sion, notre Ressenti Unique  et entrer dans le voyage,\nNotre Danse.\n
 Estelle Fayat de Bel'Oiseau 06 88 98 65 14\nhttp://beloiseau.blogspot.
 com/\n\nPour plus d'information, aller sur https://epanews.fr/events/u
 n-envol-du-mouvement-la-danse-biodynamique
DTSTART;TZID=Europe/Paris:20160914T121500
DTEND;TZID=Europe/Paris:20160914T131500
CATEGORIES:69
LOCATION:LYON Loft-Zen
WEBSITE:https://goo.gl/maps/6tyF9xi52ey
URL:https://goo.gl/maps/6tyF9xi52ey
CONTACT:06 27 11 31 25
ORGANIZER:Estelle FAYAT
ATTACH;FMTTYPE="image/jpeg":http://storage.ning.com/topology/rest/1.0/
 file/get/1663603154?profile=original
ATTENDEE;ROLE=REQ-PARTICIPANT;PARTSTAT=ACCEPTED;RSVP=TRUE;CN="Pier Bru
 ch":https://epanews.fr/profile/ReCoNaissanceparletoucher
END:VEVENT
END:VCALENDAR
