BEGIN:VCALENDAR
PRODID:NingEventWidget-v1
VERSION:2.0
METHOD:PUBLISH
BEGIN:VTIMEZONE
TZID:Europe/Paris
X-LIC-LOCATION:Europe/Paris
BEGIN:DAYLIGHT
TZOFFSETFROM:+0100
TZOFFSETTO:+0200
TZNAME:CEST
DTSTART:19700329T020000
RRULE:FREQ=YEARLY;BYMONTH=3;BYDAY=-1SU
END:DAYLIGHT
BEGIN:STANDARD
TZOFFSETFROM:+0200
TZOFFSETTO:+0100
TZNAME:CET
DTSTART:19701025T030000
RRULE:FREQ=YEARLY;BYMONTH=10;BYDAY=-1SU
END:STANDARD
END:VTIMEZONE
BEGIN:VEVENT
UID:2485226:Event:902093
DTSTAMP:20260420T032659Z
SUMMARY:un atelier pour apprivoiser son stress
DESCRIPTION:ce stage de deux jours vous permettra de développer vos r
 essources internes face à des situations stressantes, une meilleure g
 estion des émotions et des tensions internes.\ntransmission d'outils 
 basés sur la respiration consciente et autres techniques de relaxatio
 n\nnous utiliserons également l'outil du clown afin de travailler la 
 présence à soi et à l'autre en libérant le rire\npour plus d'info 
 : lavoiedelenvol.com\n\nPour plus d'information, aller sur https://epa
 news.fr/events/un-atelier-pour-apprivoiser-son-stress
DTSTART;TZID=Europe/Paris:20121020T000000
DTEND;TZID=Europe/Paris:20121021T235900
CATEGORIES:66
LOCATION:Los Masos 66, (environ de Prades)
WEBSITE:http://www.masflores66.com
URL:http://www.masflores66.com
CONTACT:06 03 61 47 91
ORGANIZER;CN="catherine crohin":https://epanews.fr/profile/catherinecr
 ohin
ATTACH;FMTTYPE="image/jpeg":
ATTENDEE;ROLE=REQ-PARTICIPANT;PARTSTAT=ACCEPTED;RSVP=TRUE;CN="catherin
 e crohin":https://epanews.fr/profile/catherinecrohin
END:VEVENT
END:VCALENDAR
