BEGIN:VCALENDAR
PRODID:NingEventWidget-v1
VERSION:2.0
METHOD:PUBLISH
BEGIN:VTIMEZONE
TZID:Europe/Paris
X-LIC-LOCATION:Europe/Paris
BEGIN:DAYLIGHT
TZOFFSETFROM:+0100
TZOFFSETTO:+0200
TZNAME:CEST
DTSTART:19700329T020000
RRULE:FREQ=YEARLY;BYMONTH=3;BYDAY=-1SU
END:DAYLIGHT
BEGIN:STANDARD
TZOFFSETFROM:+0200
TZOFFSETTO:+0100
TZNAME:CET
DTSTART:19701025T030000
RRULE:FREQ=YEARLY;BYMONTH=10;BYDAY=-1SU
END:STANDARD
END:VTIMEZONE
BEGIN:VEVENT
UID:2485226:Event:750792
DTSTAMP:20260422T010817Z
SUMMARY:Turquie : à la croisée des chemin(ée)s de fées : la Cappad
 oce
DESCRIPTION:Voyage original de ressourcement alliant tourisme  cultur
 el, dynamisation et évolution personnelle : du 25 août au 2 septembr
 e 2012.\nFormat unique : aller à la rencontre de civilisations millé
 naires, retrouver son potentiel et son équilibre personnel, optimiser
  son capital émotionnel et énergétique, gagner en efficacité perso
 nnelle et professionnelle ...\nNotre petit groupe (15 personnes max.) 
 se réunira régulièrement en 1/2 journées pour avancer son son prop
 re chemin d'évolution : différents ateliers seront proposés tout au
  long de notre séjour. \nPour nous y aider : réveil corporel, march
 e Afghane, constellations systémiques, EFT, acupressure (PBA), commun
 ication bienveillante, relaxation.\nEt tous les jours un apéritif hyp
 notique sera proposé !\nAccessible à chacun, être 'bon marcheur' n'
 est pas nécessaire.\nDéparts de Paris Orly.\nTarif préférentiel, a
 ppelez-nous.\nToutes les infos ici\n\nPour plus d'information, aller s
 ur https://epanews.fr/events/turquie-la-crois-e-des-chemin-e-s-de-f-es
 -la-cappadoce
DTSTART;TZID=Europe/Paris:20120825T000000
DTEND;TZID=Europe/Paris:20120902T000000
CATEGORIES:tous
LOCATION:TURQUIE
WEBSITE:http://www.lefildariane.eu/
URL:http://www.lefildariane.eu/
CONTACT:02 38 560 560  ou  06 18 86 02 10
ORGANIZER;CN="Hervé Robbes":https://epanews.fr/profile/HerveRobbes
ATTACH;FMTTYPE="image/jpeg":http://storage.ning.com/topology/rest/1.0/
 file/get/1662585049?profile=original
ATTENDEE;ROLE=REQ-PARTICIPANT;PARTSTAT=ACCEPTED;RSVP=TRUE;CN="Hervé R
 obbes":https://epanews.fr/profile/HerveRobbes
END:VEVENT
END:VCALENDAR
