BEGIN:VCALENDAR
PRODID:NingEventWidget-v1
VERSION:2.0
METHOD:PUBLISH
BEGIN:VTIMEZONE
TZID:Europe/Paris
X-LIC-LOCATION:Europe/Paris
BEGIN:DAYLIGHT
TZOFFSETFROM:+0100
TZOFFSETTO:+0200
TZNAME:CEST
DTSTART:19700329T020000
RRULE:FREQ=YEARLY;BYMONTH=3;BYDAY=-1SU
END:DAYLIGHT
BEGIN:STANDARD
TZOFFSETFROM:+0200
TZOFFSETTO:+0100
TZNAME:CET
DTSTART:19701025T030000
RRULE:FREQ=YEARLY;BYMONTH=10;BYDAY=-1SU
END:STANDARD
END:VTIMEZONE
BEGIN:VEVENT
UID:2485226:Event:1881002
DTSTAMP:20260422T045258Z
SUMMARY:Turn ON
DESCRIPTION:3 jeux de communications conĂ§us pour vous vous donner lâ€
 ™expĂ©rience de ce que la pratique de MĂ©ditation Orgasmique peut vous
  apporter en terme de sensations.Â   Le Â« TurnOn Â» est un point de d
 Ă©part pour atteindre ce que lâ€™on recherche tous : des connections a
 uthentiques. Et celĂ  commence en communiquant authentiquementÂ sur de
 s sujets aussi importants que nos relations, nos dĂ©sirs, ou la sexual
 itĂ©.  TurnOn est un Ă©vĂ©nement spĂ©cialement conĂ§u pour vous donner
  la possibilitĂ©, en jouant 3 jeux de communication, de ressentir cett
 e Ă©nergie qui survient lorsque lâ€™on pousse les limites de notre sph
 ere de confort et que lâ€™on multiplie ainsi les chances dâ€™obtenir c
 e que lâ€™on veut, et de dĂ©couvrir la magie qui sâ€™offre Ă  nous.  C
 â€™est ludique, amenĂ© avec de lâ€™humour pour sâ€™autoriser Ă  aborde
 r des sujets que lâ€™on garde souvent tout bas alors que lâ€™on meurt 
 dâ€™envie de les dire tout haut.  Et câ€™est un excellent moyen dâ€™ap
 prendre Ă  poser des questions percutantes pour mieux porter son atten
 tion sur les autres.  EntrĂ©e 10 euros\n\nPour plus d'information, all
 er sur https://epanews.fr/events/turn-on
DTSTART;TZID=Europe/Paris:20140420T180000
DTEND;TZID=Europe/Paris:20140420T193000
CATEGORIES:31
LOCATION:Toulouse
WEBSITE:http://www.meditationorgasmique.com/turnon.html
URL:http://www.meditationorgasmique.com/turnon.html
CONTACT:0664032736
ORGANIZER;CN=EmaOM:https://epanews.fr/profile/EmaOM
ATTACH;FMTTYPE="image/jpeg":http://storage.ning.com/topology/rest/1.0/
 file/get/1663116338?profile=original
ATTENDEE;ROLE=REQ-PARTICIPANT;PARTSTAT=ACCEPTED;RSVP=TRUE;CN=EmaOM:htt
 ps://epanews.fr/profile/EmaOM
END:VEVENT
END:VCALENDAR
