BEGIN:VCALENDAR
PRODID:NingEventWidget-v1
VERSION:2.0
METHOD:PUBLISH
BEGIN:VTIMEZONE
TZID:Europe/Paris
X-LIC-LOCATION:Europe/Paris
BEGIN:DAYLIGHT
TZOFFSETFROM:+0100
TZOFFSETTO:+0200
TZNAME:CEST
DTSTART:19700329T020000
RRULE:FREQ=YEARLY;BYMONTH=3;BYDAY=-1SU
END:DAYLIGHT
BEGIN:STANDARD
TZOFFSETFROM:+0200
TZOFFSETTO:+0100
TZNAME:CET
DTSTART:19701025T030000
RRULE:FREQ=YEARLY;BYMONTH=10;BYDAY=-1SU
END:STANDARD
END:VTIMEZONE
BEGIN:VEVENT
UID:2485226:Event:718504
DTSTAMP:20260422T003016Z
SUMMARY:Trouver son chemin en montagne... et dans la vie!
DESCRIPTION:Durant ce week-end, nous aurons l’occasion d’effectuer
  des exercices pratiques d’orientation et de lecture de carte. Lors 
 d’expériences sensitives permettant à chacun d’aller au fond de 
 soi, vous pourrez découvrir certaines de vos croyances concernant vos
  capacités à vous diriger ou à vous orienter. Ces croyances font do
 uter, non seulement face à une carte, mais elles affectent également
  d’autres aspects de la vie, tels que la manière de prendre des dé
 cisions ou de se positionner face aux autres.\nOsez explorer le chemin
  pour vous en libérer!\n\nPour plus d'information, aller sur https://
 epanews.fr/events/trouver-son-chemin-en-montagne-et-dans-la-vie
DTSTART;TZID=Europe/Paris:20120317T091500
DTEND;TZID=Europe/Paris:20120318T180000
CATEGORIES:suisse
LOCATION:Genève
WEBSITE:
URL:
CONTACT:0033 450 94 50 41 ou 0041 79 648 68 47
ORGANIZER;CN="Catherine Chatelain":https://epanews.fr/profile/Catherin
 eChatelain
ATTACH;FMTTYPE="image/jpeg":http://storage.ning.com/topology/rest/1.0/
 file/get/1662570465?profile=original
ATTENDEE;ROLE=REQ-PARTICIPANT;PARTSTAT=ACCEPTED;RSVP=TRUE;CN="Catherin
 e Chatelain":https://epanews.fr/profile/CatherineChatelain
END:VEVENT
END:VCALENDAR
