BEGIN:VCALENDAR
PRODID:NingEventWidget-v1
VERSION:2.0
METHOD:PUBLISH
BEGIN:VTIMEZONE
TZID:Europe/Paris
X-LIC-LOCATION:Europe/Paris
BEGIN:DAYLIGHT
TZOFFSETFROM:+0100
TZOFFSETTO:+0200
TZNAME:CEST
DTSTART:19700329T020000
RRULE:FREQ=YEARLY;BYMONTH=3;BYDAY=-1SU
END:DAYLIGHT
BEGIN:STANDARD
TZOFFSETFROM:+0200
TZOFFSETTO:+0100
TZNAME:CET
DTSTART:19701025T030000
RRULE:FREQ=YEARLY;BYMONTH=10;BYDAY=-1SU
END:STANDARD
END:VTIMEZONE
BEGIN:VEVENT
UID:2485226:Event:1136421
DTSTAMP:20260421T155525Z
SUMMARY:trouver sa voie et rayonner sa joie
DESCRIPTION:un atelier pour  connaitre comment fonctionnent les lois 
 de la physique,s'informer sur les dernières découvertes en neuroscie
 nces et appliquer dans son quotidien la loi d'attraction\nSur 4 jours 
 repartis en 4 mois à forcalquier\n\nPour plus d'information, aller su
 r https://epanews.fr/events/trouver-sa-voie-et-rayonner-sa-joie
DTSTART;TZID=Europe/Paris:20130623T000000
DTEND;TZID=Europe/Paris:20130623T235900
CATEGORIES:04, 13
LOCATION:forcalquier
WEBSITE:
URL:
CONTACT:0628281331
ORGANIZER;CN="Patricia Veronica Lagier":https://epanews.fr/profile/Pat
 riciaVeronicaLagier
ATTACH;FMTTYPE="image/jpeg":
ATTENDEE;ROLE=REQ-PARTICIPANT;PARTSTAT=ACCEPTED;RSVP=TRUE;CN="Patricia
  Veronica Lagier":https://epanews.fr/profile/PatriciaVeronicaLagier
END:VEVENT
END:VCALENDAR
