BEGIN:VCALENDAR
PRODID:NingEventWidget-v1
VERSION:2.0
METHOD:PUBLISH
BEGIN:VTIMEZONE
TZID:Europe/Paris
X-LIC-LOCATION:Europe/Paris
BEGIN:DAYLIGHT
TZOFFSETFROM:+0100
TZOFFSETTO:+0200
TZNAME:CEST
DTSTART:19700329T020000
RRULE:FREQ=YEARLY;BYMONTH=3;BYDAY=-1SU
END:DAYLIGHT
BEGIN:STANDARD
TZOFFSETFROM:+0200
TZOFFSETTO:+0100
TZNAME:CET
DTSTART:19701025T030000
RRULE:FREQ=YEARLY;BYMONTH=10;BYDAY=-1SU
END:STANDARD
END:VTIMEZONE
BEGIN:VEVENT
UID:2485226:Event:2647794
DTSTAMP:20260422T054602Z
SUMMARY:Troubles de la Mémoire - Conférence Kinésiologie
DESCRIPTION:Découvrez comment la Kinésiologie nous aide à développ
 er la mémoire\nConférence présentée par Bernard Ophoven Kinésiolo
 gue,\nDirecteur de l'Ecole Française de Kinésiologie Professionnelle
 \nLe 6 juin 2016 à Vinon-sur-Verdon à 18h30\n\nLe corps a une mémoi
 re et notre mémoire s'active avec notre corps\nNotre niveau d'énergi
 e et de stress, notre environnement, les événements de la vie aff
 ectent nos capacités\nLe corps peut nous donner des informations pour
  apprendre à les améliore\n\n\nPour plus d'information, aller sur ht
 tps://epanews.fr/events/troubles-de-la-m-moire-conf-rence-kin-siologie
DTSTART;TZID=Europe/Paris:20160606T183000
DTEND;TZID=Europe/Paris:20160606T203000
CATEGORIES:83
LOCATION:Vinon-sur-Verdon
WEBSITE:
URL:
CONTACT:06 83 84 23 97
ORGANIZER;CN="OPHOVEN Bernard":https://epanews.fr/profile/OPHOVENBerna
 rd
ATTACH;FMTTYPE="image/jpeg":http://storage.ning.com/topology/rest/1.0/
 file/get/1663566209?profile=original
ATTENDEE;ROLE=REQ-PARTICIPANT;PARTSTAT=ACCEPTED;RSVP=TRUE;CN="OPHOVEN 
 Bernard":https://epanews.fr/profile/OPHOVENBernard
END:VEVENT
END:VCALENDAR
