BEGIN:VCALENDAR
PRODID:NingEventWidget-v1
VERSION:2.0
METHOD:PUBLISH
BEGIN:VTIMEZONE
TZID:Europe/Paris
X-LIC-LOCATION:Europe/Paris
BEGIN:DAYLIGHT
TZOFFSETFROM:+0100
TZOFFSETTO:+0200
TZNAME:CEST
DTSTART:19700329T020000
RRULE:FREQ=YEARLY;BYMONTH=3;BYDAY=-1SU
END:DAYLIGHT
BEGIN:STANDARD
TZOFFSETFROM:+0200
TZOFFSETTO:+0100
TZNAME:CET
DTSTART:19701025T030000
RRULE:FREQ=YEARLY;BYMONTH=10;BYDAY=-1SU
END:STANDARD
END:VTIMEZONE
BEGIN:VEVENT
UID:2485226:Event:1438922
DTSTAMP:20260420T004157Z
SUMMARY:Travail à distance avec les Cristaux par Jorge Mozo
DESCRIPTION:\n\nCher amis du Règne Minéral, \nCette journée sera r
 éservée aux thérapeutes. Jorge Mozo partagera ses techniques, ses 
 expériences et ses connaissances du Règne Minéral en relation avec 
 le « travail à distance ». Comment « travailler » efficacement ou
  comment potentialiser des techniques préétablies avec l’aide des 
 Cristaux !http://www.jorgemozo.org/agenda/seminaires-2013/travail-a-di
 stance-pour-les-therapeutes.htmlMerci :-)\n\nPour plus d'information, 
 aller sur https://epanews.fr/events/travail-distance-avec-les-cristaux
 -par-jorge-mozo
DTSTART;TZID=Europe/Paris:20130915T100000
DTEND;TZID=Europe/Paris:20130915T170000
CATEGORIES:genève, suisse
LOCATION:Chêne-Bourg
WEBSITE:http://www.jorgemozo.org/agenda/seminaires-2013/travail-a-dist
 ance-pour-les-therapeutes.html
URL:http://www.jorgemozo.org/agenda/seminaires-2013/travail-a-distance
 -pour-les-therapeutes.html
CONTACT:0041 78 944 31 09
ORGANIZER;CN=Elomen:https://epanews.fr/profile/Elomen
ATTACH;FMTTYPE="image/jpeg":http://storage.ning.com/topology/rest/1.0/
 file/get/1662879180?profile=original
ATTENDEE;ROLE=REQ-PARTICIPANT;PARTSTAT=ACCEPTED;RSVP=TRUE;CN=Elomen:ht
 tps://epanews.fr/profile/Elomen
END:VEVENT
END:VCALENDAR
