BEGIN:VCALENDAR
PRODID:NingEventWidget-v1
VERSION:2.0
METHOD:PUBLISH
BEGIN:VTIMEZONE
TZID:Europe/Paris
X-LIC-LOCATION:Europe/Paris
BEGIN:DAYLIGHT
TZOFFSETFROM:+0100
TZOFFSETTO:+0200
TZNAME:CEST
DTSTART:19700329T020000
RRULE:FREQ=YEARLY;BYMONTH=3;BYDAY=-1SU
END:DAYLIGHT
BEGIN:STANDARD
TZOFFSETFROM:+0200
TZOFFSETTO:+0100
TZNAME:CET
DTSTART:19701025T030000
RRULE:FREQ=YEARLY;BYMONTH=10;BYDAY=-1SU
END:STANDARD
END:VTIMEZONE
BEGIN:VEVENT
UID:2485226:Event:994497
DTSTAMP:20260420T061835Z
SUMMARY:Transfiguration: de l'homme matiÃ¨re Ã  l'homme lumiÃ¨re
DESCRIPTION:\nExposÃ©  Nous ne sommes pas destinÃ©s Ã  vivre seulement
  des pulsions de notre nature corporelle et naturelle. Notre corps et 
 ses aspects subtils, nos diffÃ©rentes facultÃ©s, doivent servir Ã  lâ€
 ™avÃ¨nement d'un homme entiÃ¨rement nouveau.  Fin prÃ©vue de cet Ã©vÃ¨
 nement : 21:30\n\nEntrÃ©e libre et gratuite\n\nPour plus d'information
 , aller sur https://epanews.fr/events/transfiguration-de-l-homme-mati-
 re-l-homme-lumi-re
DTSTART;TZID=Europe/Paris:20121121T200000
DTEND;TZID=Europe/Paris:20121121T220000
CATEGORIES:06
LOCATION:NICE
WEBSITE:http://toulon-nice.rose-croix-d-or.org/
URL:http://toulon-nice.rose-croix-d-or.org/
CONTACT:
ORGANIZER;CN="jean claude":https://epanews.fr/profile/Adamowski
ATTACH;FMTTYPE="image/jpeg":http://storage.ning.com/topology/rest/1.0/
 file/get/1662686187?profile=original
ATTENDEE;ROLE=REQ-PARTICIPANT;PARTSTAT=ACCEPTED;RSVP=TRUE;CN=suzalyb:h
 ttps://epanews.fr/profile/suzalyb
ATTENDEE;ROLE=REQ-PARTICIPANT;PARTSTAT=ACCEPTED;RSVP=TRUE;CN="jean cla
 ude":https://epanews.fr/profile/Adamowski
END:VEVENT
END:VCALENDAR
