BEGIN:VCALENDAR
PRODID:NingEventWidget-v1
VERSION:2.0
METHOD:PUBLISH
BEGIN:VTIMEZONE
TZID:Europe/Paris
X-LIC-LOCATION:Europe/Paris
BEGIN:DAYLIGHT
TZOFFSETFROM:+0100
TZOFFSETTO:+0200
TZNAME:CEST
DTSTART:19700329T020000
RRULE:FREQ=YEARLY;BYMONTH=3;BYDAY=-1SU
END:DAYLIGHT
BEGIN:STANDARD
TZOFFSETFROM:+0200
TZOFFSETTO:+0100
TZNAME:CET
DTSTART:19701025T030000
RRULE:FREQ=YEARLY;BYMONTH=10;BYDAY=-1SU
END:STANDARD
END:VTIMEZONE
BEGIN:VEVENT
UID:2485226:Event:994583
DTSTAMP:20260423T215853Z
SUMMARY:Toxicomanie et dépendances: fausses réponses, vraie question
 .
DESCRIPTION:\nConférence présentée par C.Berthet  La vie sur terre 
 a un sens profond. Être coupé de cette réalité, crée un manque et
  une souffrance tels, que l’homme doit faire appel à un « substit
 ut » capable de les faire disparaître.  Pour permettre aux généra
 tions actuelles et futures, de renouer avec de véritables perspective
 s de vie, nous devons comprendre où se trouve la cause fondamentale d
 e la souffrance.  Fin prévue de cet évènement : 18:00\n\nEntrée li
 bre et gratuite\n\nPour plus d'information, aller sur https://epanews.
 fr/events/toxicomanie-et-d-pendances-fausses-r-ponses-vraie-question
DTSTART;TZID=Europe/Paris:20121124T150000
DTEND;TZID=Europe/Paris:20121124T180000
CATEGORIES:06
LOCATION:NICE
WEBSITE:http://toulon-nice.rose-croix-d-or.org/
URL:http://toulon-nice.rose-croix-d-or.org/
CONTACT:
ORGANIZER;CN="jean claude":https://epanews.fr/profile/Adamowski
ATTACH;FMTTYPE="image/jpeg":http://storage.ning.com/topology/rest/1.0/
 file/get/1662688061?profile=original
ATTENDEE;ROLE=REQ-PARTICIPANT;PARTSTAT=ACCEPTED;RSVP=TRUE;CN=grazi:htt
 ps://epanews.fr/profile/grazi
ATTENDEE;ROLE=REQ-PARTICIPANT;PARTSTAT=ACCEPTED;RSVP=TRUE;CN=legoa:htt
 ps://epanews.fr/profile/legoa
ATTENDEE;ROLE=REQ-PARTICIPANT;PARTSTAT=ACCEPTED;RSVP=TRUE;CN=AZZARO:ht
 tps://epanews.fr/profile/AZZARO
ATTENDEE;ROLE=REQ-PARTICIPANT;PARTSTAT=ACCEPTED;RSVP=TRUE;CN="jean cla
 ude":https://epanews.fr/profile/Adamowski
ATTENDEE;ROLE=REQ-PARTICIPANT;PARTSTAT=TENTATIVE;RSVP=TRUE;CN=Lula:htt
 ps://epanews.fr/profile/Lula
END:VEVENT
END:VCALENDAR
