BEGIN:VCALENDAR
PRODID:NingEventWidget-v1
VERSION:2.0
METHOD:PUBLISH
BEGIN:VTIMEZONE
TZID:Europe/Paris
X-LIC-LOCATION:Europe/Paris
BEGIN:DAYLIGHT
TZOFFSETFROM:+0100
TZOFFSETTO:+0200
TZNAME:CEST
DTSTART:19700329T020000
RRULE:FREQ=YEARLY;BYMONTH=3;BYDAY=-1SU
END:DAYLIGHT
BEGIN:STANDARD
TZOFFSETFROM:+0200
TZOFFSETTO:+0100
TZNAME:CET
DTSTART:19701025T030000
RRULE:FREQ=YEARLY;BYMONTH=10;BYDAY=-1SU
END:STANDARD
END:VTIMEZONE
BEGIN:VEVENT
UID:2485226:Event:2860384
DTSTAMP:20260421T150341Z
SUMMARY:Tong Ren Lazy Bum
DESCRIPTION:paiement sur place possible après pré inscriptions direc
 tement sur internet https://goo.gl/forms/w5kcWd7kFhQcqVVf1  Pour comp
 rendre un peu mieux : Classe Lazy bum - TONG REN avec Louise Gervais 
  https://www.youtube.com/watch?v=QLHzk9UDUdk   Pour ceux qui ont déj
 à rencontré Louise c'est une évidence de venir partager cette class
 e avec elle, pour ceux qui ne la connaissent pas encore ce sera une fo
 rmidable découverte.� Louise a un parcours riche d’enseignements.
  Je l'ai rencontrée en 2008 pour apprendre l'EFT, elle enseignait dé
 jà le quantique sans que ce mot soit connu.   Toute transformation e
 st dans la puissance de notre créativité et dans la prise de respons
 abilité de ce que nous créons. C'est tellement simple. Louise et Cha
 ntal vont nous proposer de nombreuses applications Tong Ren à partir 
 de vos thèmes.   En s'amusant nous allons formuler d'uniques affirma
 tions toutes inspirées des enseignements universels et vérités éte
 rnelles au delà de toute technique. C'est un Etat d'Etre avant d'êtr
 e un outil. Tout est possible ici et maintenant lorsque l'onde que l'o
 n produit pendant la session arrive jusqu'à la personne. Seule la vib
 ration est importante, ce qu'elle appelle le \"toc toc\". Vous pourrez
  ensuite pratiquer chez vous à l'issue de cette soirée, pour vous ou
  pour les autres pour tout sujet : maladie, inconfort, spiritualité, 
 travail... Vous verrez qu'au delà de tout cela, Louise va vous enseig
 ner la subtilité de l'intention comme mouvement, au delà de tout vou
 loir. L'intention dans l'Etre comme mouvement de Vie. Pour connaître 
 les autres villes où Chantal et Louise se déplaceront, ou connaître
  un peu mieux leurs personnalités, aller sur www.wisdomofbeing.com 
 jeter un oeil ! Pour tout renseignement, questions, précisions, n'hé
 sitez pas à nous contacter.  Agathe&Nathalie   Billetterie : 15e, ch
 èque de réservation à nous adresser à l'odre de Soqi Aara ou sur p
 lace après confirmation de votre venue.\n\nPour plus d'information, a
 ller sur https://epanews.fr/events/tong-ren-lazy-bum
DTSTART;TZID=Europe/Paris:20170908T180000
DTEND;TZID=Europe/Paris:20170908T220000
CATEGORIES:34
LOCATION:Mauguio, salle Morastel
WEBSITE:
URL:
CONTACT:
ORGANIZER;CN="Agathe Bourasset":https://epanews.fr/profile/AgatheBoura
 sset444
ATTACH;FMTTYPE="image/jpeg":http://storage.ning.com/topology/rest/1.0/
 file/get/1663684140?profile=original
ATTENDEE;ROLE=REQ-PARTICIPANT;PARTSTAT=ACCEPTED;RSVP=TRUE;CN="Agathe B
 ourasset":https://epanews.fr/profile/AgatheBourasset444
END:VEVENT
END:VCALENDAR
