BEGIN:VCALENDAR
PRODID:NingEventWidget-v1
VERSION:2.0
METHOD:PUBLISH
BEGIN:VTIMEZONE
TZID:Europe/Paris
X-LIC-LOCATION:Europe/Paris
BEGIN:DAYLIGHT
TZOFFSETFROM:+0100
TZOFFSETTO:+0200
TZNAME:CEST
DTSTART:19700329T020000
RRULE:FREQ=YEARLY;BYMONTH=3;BYDAY=-1SU
END:DAYLIGHT
BEGIN:STANDARD
TZOFFSETFROM:+0200
TZOFFSETTO:+0100
TZNAME:CET
DTSTART:19701025T030000
RRULE:FREQ=YEARLY;BYMONTH=10;BYDAY=-1SU
END:STANDARD
END:VTIMEZONE
BEGIN:VEVENT
UID:2485226:Event:1047355
DTSTAMP:20260423T025644Z
SUMMARY:Tiarge pour l'année 2013 avec le Tarot de Marseille
DESCRIPTION:L'année 2013 est placée sous l'énergie de l'arcane de l
 'Amoureux et du nombre 6, nombre associé au choix et à l'engagement 
 vis-à-vis des autres,mais surtout vis-à-vis de soi-même.\nA son plu
 s haut niveau, l'Amoureux se met au service de l'Autre par l'Amour inc
 onditionnel. Mais il faut déjà avoir développé l'Amour et l'estime
  pour soi-même. Ainsi cette année nous propose-t-elle de renforcer n
 otre confiance en nous afin de faire les choix qui nous correspondent 
 au mieux, sans nous laisser détourner  par la peur du jugement d'aut
 rui.\nAfin de profiter au maximum de l'année à venir, je vous propos
 e un atelier de tirage avec le Tarot de Marseille que nous associerons
  à deux autres arcanes de votre Référentiel de Naissance.  Le tirag
 e sera suivi d'un travail d'intégration dans la synergie du groupe qu
 i permettra à chaque personne de repartir en ayant contacté et prép
 aré l'intégration de ses propres énergies pour l'année.\nHoraires 
 : de 10h00 à 13h00\nTarif : 35 €.\nLieu : ASTM – 270 rue du faubo
 urg Saint Martin (au fond de la cour en face à gauche). Métro Stalin
 grad (lignes 2, 5, 7). Le code vous sera communiqué au moment de l'in
 scription.\nInscription obligatoire : l'atelier est limité à 6 parti
 cipants,  pour permettre à chacun d'en profiter au maximum,\nCarolin
 e : 06 72 44 18 33 – contact@chemins-de-sens.fr\nPossibilité en sem
 aine sur demande l'après-midi ou en soirée (groupe de 4 personnes mi
 nimum pour 2h00).\n\nPour plus d'information, aller sur https://epanew
 s.fr/events/tiarge-pour-l-ann-e-2013-avec-le-tarot-de-marseille
DTSTART;TZID=Europe/Paris:20130112T100000
DTEND;TZID=Europe/Paris:20130112T130000
CATEGORIES:75
LOCATION:ASTM (Paris 10è)
WEBSITE:http://www.chemins-de-sens.fr
URL:http://www.chemins-de-sens.fr
CONTACT:06 72 44 18 33
ORGANIZER;CN=caroline:https://epanews.fr/profile/caroline589
ATTACH;FMTTYPE="image/jpeg":http://storage.ning.com/topology/rest/1.0/
 file/get/1662709172?profile=original
ATTENDEE;ROLE=REQ-PARTICIPANT;PARTSTAT=ACCEPTED;RSVP=TRUE;CN=caroline:
 https://epanews.fr/profile/caroline589
END:VEVENT
END:VCALENDAR
