BEGIN:VCALENDAR
PRODID:NingEventWidget-v1
VERSION:2.0
METHOD:PUBLISH
BEGIN:VTIMEZONE
TZID:Europe/Paris
X-LIC-LOCATION:Europe/Paris
BEGIN:DAYLIGHT
TZOFFSETFROM:+0100
TZOFFSETTO:+0200
TZNAME:CEST
DTSTART:19700329T020000
RRULE:FREQ=YEARLY;BYMONTH=3;BYDAY=-1SU
END:DAYLIGHT
BEGIN:STANDARD
TZOFFSETFROM:+0200
TZOFFSETTO:+0100
TZNAME:CET
DTSTART:19701025T030000
RRULE:FREQ=YEARLY;BYMONTH=10;BYDAY=-1SU
END:STANDARD
END:VTIMEZONE
BEGIN:VEVENT
UID:2485226:Event:2634778
DTSTAMP:20260423T082458Z
SUMMARY:theo poizat et le duo atma
DESCRIPTION:Bonjour à tous , je suis de retour d'un voyage en Inde av
 ec un ami musicien et nous avons crée un Duo de musique zen , rythmé
  , et virtuose .Je suis percussionniste et pratique depuis presque 20 
 ans et depuis 6 ans je me suis spécialisé dans les hand pans (hang) 
 , mon website : www.theopoizat-musique.comet mon ami Julien Moretto e
 st spécialisé dans le violon indien , il a étudié pendant plus de 
 7 ans en Inde ( https://julienmoretto.bandcamp.com ).Notre duo Atma 
 : https://www.facebook.com/Atma-280528598811622/?fref=tsNous cherchon
 s des contacts et des lieux pour pouvoir partager notre musique avec l
 es mélomanes de la région qui aiment la musique meditative mais auss
 i dansante !Nous pouvons effectivement partager en 2 notre performance
  avec une premiere partie très lente et profonde et ensuite jouer une
  deuxième partie plus dansante ou les rythmes électroniques et les g
 rooves de beat box et de percussions accompagnes nos melodies inspiré
 es d'Afrique , d'Inde , du moyen orient , de la musique classique occi
 dental , du jazz etc...j'espère recevoir une réponse de votre part s
 i vous avez des idées pour nous , nous aimerions aussi développer un
  concept de concerts privé dans des jardins ou salons ou salle de yog
 a et de meditation .cordialement et musicalement votre .mon telephone 
 : 0670633669\n\n\n\n\n\n\nTHEO POIZAT - Musicien percussioniste - Mult
 i-instrumentiste\nDécouvrez l'univers musical du musicien percussioni
 ste Théo Poizat. Joueur de Hang Pans, Spacedrums , et tout autre perc
 ussion, il propose une musique aux…\nTHEOPOIZAT-MUSIQUE.COM| PAR TH
 ÉO POIZAT\n\n\n\n\n\n\n\n\n\n\n\n\nPour plus d'information, aller sur
  https://epanews.fr/events/theo-poizat-et-le-duo-atma
DTSTART;TZID=Europe/Paris:20160427T180000
DTEND;TZID=Europe/Paris:20160427T190000
CATEGORIES:34
LOCATION:montpellier
WEBSITE:
URL:
CONTACT:
ORGANIZER;CN=zentao:https://epanews.fr/profile/zentao
ATTACH;FMTTYPE="image/jpeg":
ATTENDEE;ROLE=REQ-PARTICIPANT;PARTSTAT=ACCEPTED;RSVP=TRUE;CN=zentao:ht
 tps://epanews.fr/profile/zentao
END:VEVENT
END:VCALENDAR
