BEGIN:VCALENDAR
PRODID:NingEventWidget-v1
VERSION:2.0
METHOD:PUBLISH
BEGIN:VTIMEZONE
TZID:Europe/Paris
X-LIC-LOCATION:Europe/Paris
BEGIN:DAYLIGHT
TZOFFSETFROM:+0100
TZOFFSETTO:+0200
TZNAME:CEST
DTSTART:19700329T020000
RRULE:FREQ=YEARLY;BYMONTH=3;BYDAY=-1SU
END:DAYLIGHT
BEGIN:STANDARD
TZOFFSETFROM:+0200
TZOFFSETTO:+0100
TZNAME:CET
DTSTART:19701025T030000
RRULE:FREQ=YEARLY;BYMONTH=10;BYDAY=-1SU
END:STANDARD
END:VTIMEZONE
BEGIN:VEVENT
UID:2485226:Event:55450
DTSTAMP:20260419T225848Z
SUMMARY:théatre
DESCRIPTION:Née en 1986 lors du centenaire du Centre Hospitalier Henr
 i Guérin, la compagnie « Les lendemains d’hier » résidait et par
 ticipait à la vie artistique et culturelle de l’hôpital. En 2004 l
 ’association « Le Centenaire après » devient « L’arbre à papi
 llons » et prend son envol, sort de l’hôpital pour s’installer d
 ans le village de Pierrefeu. La troupe se compose de travailleurs en E
 SAT, patients suivis en hôpital de jour, personnes de divers milieux 
 socioprofessionnels. Tous unis dans les mêmes buts :Favoriser l’acc
 ès à la culture pour tous Développer des activités d’expression 
 créatives, artistiques, culturelles\n« Vous avez dit Exclusion ? »\
 nExtrait de pièces et scénettes :\nLes innommables, d’après H. Lo
 th\nLe jour et la nuit, d’après H. Pinter\nLe banc, d’après X. D
 uringer\nSous les ponts de Paris, chanson\nExtraits adaptés d’une b
 ande dessinée « une épaisse couche de sentiments »\nPoèmes :\nLe 
 clochard citadin, La complainte du RMIste, Tolérance de F. Degentile\
 nAu-delà de nos différences\n\nPour plus d'information, aller sur ht
 tps://epanews.fr/events/theatre-1
DTSTART;TZID=Europe/Paris:20100507T201500
DTEND;TZID=Europe/Paris:20100507T220000
CATEGORIES:83
LOCATION:Espace Emilie à la Seyne-sur-mer
WEBSITE:http://www.lesmilleliens.org
URL:http://www.lesmilleliens.org
CONTACT:04.94.89.63.68 / 06.35.27.74.40
ORGANIZER:la compagnie « Les Lendemains d’hier »
ATTACH;FMTTYPE="image/jpeg":
ATTENDEE;ROLE=REQ-PARTICIPANT;PARTSTAT=ACCEPTED;RSVP=TRUE;CN=Odile83:h
 ttps://epanews.fr/profile/Odile83
END:VEVENT
END:VCALENDAR
