BEGIN:VCALENDAR
PRODID:NingEventWidget-v1
VERSION:2.0
METHOD:PUBLISH
BEGIN:VTIMEZONE
TZID:Europe/Paris
X-LIC-LOCATION:Europe/Paris
BEGIN:DAYLIGHT
TZOFFSETFROM:+0100
TZOFFSETTO:+0200
TZNAME:CEST
DTSTART:19700329T020000
RRULE:FREQ=YEARLY;BYMONTH=3;BYDAY=-1SU
END:DAYLIGHT
BEGIN:STANDARD
TZOFFSETFROM:+0200
TZOFFSETTO:+0100
TZNAME:CET
DTSTART:19701025T030000
RRULE:FREQ=YEARLY;BYMONTH=10;BYDAY=-1SU
END:STANDARD
END:VTIMEZONE
BEGIN:VEVENT
UID:2485226:Event:143435
DTSTAMP:20260419T140828Z
SUMMARY:The Electric Suite
DESCRIPTION:Un son tendu, sombre, minimaliste et définitivement rock 
 ... (dans la famille Sonic Youth, PJ Harvey, Jeff Buckley)... Basse Ri
 ckenbacker et chant – une quinzaine de compositions originales en an
 glais\n\nPour plus d'information, aller sur https://epanews.fr/events/
 the-electric-suite
DTSTART;TZID=Europe/Paris:20101104T210000
DTEND;TZID=Europe/Paris:20101104T234500
CATEGORIES:gard
LOCATION:Chez moi, Chez toi
WEBSITE:
URL:
CONTACT:04 66 21 07 31
ORGANIZER;CN="asgeir andersen":https://epanews.fr/profile/asgeiranders
 en
ATTACH;FMTTYPE="image/jpeg":http://storage.ning.com/topology/rest/1.0/
 file/get/1662353257?profile=original
ATTENDEE;ROLE=REQ-PARTICIPANT;PARTSTAT=ACCEPTED;RSVP=TRUE;CN="asgeir a
 ndersen":https://epanews.fr/profile/asgeirandersen
END:VEVENT
END:VCALENDAR
