BEGIN:VCALENDAR
PRODID:NingEventWidget-v1
VERSION:2.0
METHOD:PUBLISH
BEGIN:VTIMEZONE
TZID:Europe/Paris
X-LIC-LOCATION:Europe/Paris
BEGIN:DAYLIGHT
TZOFFSETFROM:+0100
TZOFFSETTO:+0200
TZNAME:CEST
DTSTART:19700329T020000
RRULE:FREQ=YEARLY;BYMONTH=3;BYDAY=-1SU
END:DAYLIGHT
BEGIN:STANDARD
TZOFFSETFROM:+0200
TZOFFSETTO:+0100
TZNAME:CET
DTSTART:19701025T030000
RRULE:FREQ=YEARLY;BYMONTH=10;BYDAY=-1SU
END:STANDARD
END:VTIMEZONE
BEGIN:VEVENT
UID:2485226:Event:1151656
DTSTAMP:20260421T180251Z
SUMMARY:Modèle Intégral et Géométrie Sacrée
DESCRIPTION:Accompagnez en conscience les changements profonds de la s
 ociété en incarnant vous-même ce changement.\nCours théoriques le 
 matin. Présentation du modèle Intégral de Ken Wilber. Diapositives.
 \n Cours de méditation et programmation de cristaux l'après midi. tr
 avail avec la Géométrie sacrée. Construction de votre Fleur de Vie.
 \nwww.now1.info\n\n\nPour plus d'information, aller sur https://epanew
 s.fr/events/th-orie-du-mod-le-int-gral-g-om-trie-sacr-e
DTSTART;TZID=Europe/Paris:20130209T000000
DTEND;TZID=Europe/Paris:20130210T235900
CATEGORIES:tous
LOCATION:NOW1
WEBSITE:http://www.now1.info
URL:http://www.now1.info
CONTACT:32 475 495 112
ORGANIZER:NOW1 Richard Verboomen
ATTACH;FMTTYPE="image/jpeg":http://storage.ning.com/topology/rest/1.0/
 file/get/1662752304?profile=original
ATTENDEE;ROLE=REQ-PARTICIPANT;PARTSTAT=ACCEPTED;RSVP=TRUE;CN=Fobrick:h
 ttps://epanews.fr/profile/Now1
END:VEVENT
END:VCALENDAR
