BEGIN:VCALENDAR
PRODID:NingEventWidget-v1
VERSION:2.0
METHOD:PUBLISH
BEGIN:VTIMEZONE
TZID:Europe/Paris
X-LIC-LOCATION:Europe/Paris
BEGIN:DAYLIGHT
TZOFFSETFROM:+0100
TZOFFSETTO:+0200
TZNAME:CEST
DTSTART:19700329T020000
RRULE:FREQ=YEARLY;BYMONTH=3;BYDAY=-1SU
END:DAYLIGHT
BEGIN:STANDARD
TZOFFSETFROM:+0200
TZOFFSETTO:+0100
TZNAME:CET
DTSTART:19701025T030000
RRULE:FREQ=YEARLY;BYMONTH=10;BYDAY=-1SU
END:STANDARD
END:VTIMEZONE
BEGIN:VEVENT
UID:2485226:Event:1422136
DTSTAMP:20260420T023243Z
SUMMARY:thÃ©atre et qi gong
DESCRIPTION:L'Ã©tÃ© est une pÃ©riode oÃ¹ la clÃ©mence du temps permet 
 de se rapprocher de la nature, et ces pÃ©riodes sont prÃ©cieuses : se 
 ressourcer, retrouver une connexion profonde et sincÃ¨re avec la natur
 e sensible, faire le lien entre nos ressources intÃ©rieures et les res
 sources naturelles.\nCe stage de 5 jour vous donnera lâ€˜occasion d'ex
 plorer votre potentiel crÃ©atif, de retrouver la disponibilitÃ© et la 
 libertÃ© d'expression de l'enfance, dâ€™apprÃ©cier et de tirer profit 
 d'un temps de vie en collectivitÃ©, dans la joie, l'invention et le pa
 rtage.\nLa lettre que chacun d'entre vous apportera, issue de votre co
 rrespondance privÃ©e ou sortie d'un livre, inventÃ©e ou trouvÃ©e, sera
  notre fil rouge. A l'issue des 5 jours, le vendredi 16 aout, soirÃ©e 
 spÃ©ciale \"happening\" dans un lieu public de Honfleur.\nLe travail a
 bordÃ© sera basÃ© selon diffÃ©rentes techniques :\n-Â Â Â Â Â Â Â  Con
 science de la structure du corps : Ã©chauffements et relaxation, appro
 che du Qi Gong\n-Â Â Â Â Â Â Â  Respiration, souffle, voix, regard\n-Â
  Â Â Â Â Â Â  Invention : approche ludique Ã  partir de jeux, improvis
 ations\n-Â Â Â Â Â Â Â  Travail avec masques, costumes et accessoires\
 n-Â Â Â Â Â Â Â  Mise en bouche des textes\n-Â Â Â Â Â Â Â  Travail ch
 orÃ©graphique\n\nPour plus d'information, aller sur https://epanews.fr
 /events/th-atre-et-qi-gong-1
DTSTART;TZID=Europe/Paris:20130812T000000
DTEND;TZID=Europe/Paris:20130817T170000
CATEGORIES:14, 27, 76, 75
LOCATION:L'Arbre aux Etoiles Honfleur
WEBSITE:http://www.larbreauxetoiles.fr/site/files/Stages/FlyerStageThe
 atreQigong.pdf
URL:http://www.larbreauxetoiles.fr/site/files/Stages/FlyerStageTheatre
 Qigong.pdf
CONTACT:0670798901
ORGANIZER;CN=Cyril:https://epanews.fr/profile/Guiraud
ATTACH;FMTTYPE="image/jpeg":http://storage.ning.com/topology/rest/1.0/
 file/get/1662868686?profile=original
ATTENDEE;ROLE=REQ-PARTICIPANT;PARTSTAT=ACCEPTED;RSVP=TRUE;CN=Cyril:htt
 ps://epanews.fr/profile/Guiraud
END:VEVENT
END:VCALENDAR
