BEGIN:VCALENDAR
PRODID:NingEventWidget-v1
VERSION:2.0
METHOD:PUBLISH
BEGIN:VTIMEZONE
TZID:Europe/Paris
X-LIC-LOCATION:Europe/Paris
BEGIN:DAYLIGHT
TZOFFSETFROM:+0100
TZOFFSETTO:+0200
TZNAME:CEST
DTSTART:19700329T020000
RRULE:FREQ=YEARLY;BYMONTH=3;BYDAY=-1SU
END:DAYLIGHT
BEGIN:STANDARD
TZOFFSETFROM:+0200
TZOFFSETTO:+0100
TZNAME:CET
DTSTART:19701025T030000
RRULE:FREQ=YEARLY;BYMONTH=10;BYDAY=-1SU
END:STANDARD
END:VTIMEZONE
BEGIN:VEVENT
UID:2485226:Event:1095756
DTSTAMP:20260422T054635Z
SUMMARY:théatre de la spontanéité - atelier gratuit
DESCRIPTION:Atelier gratuit de théâtre de la spontanéité.\nLe thé
 âtre de la spontanéité est une invitation à une profonde transform
 ation de soi, à une rencontre authentique avec son enfant intérieur,
  dans le but de se dévêtir de ses personnages, de redevenir libre et
  de devenir ainsi créateur de sa propre vie.\n\nPour plus d'informati
 on, aller sur https://epanews.fr/events/th-atre-de-la-spontan-it-ateli
 er-gratuit
DTSTART;TZID=Europe/Paris:20130125T180000
DTEND;TZID=Europe/Paris:20130125T210000
CATEGORIES:83
LOCATION:Les Ateliers du Corps
WEBSITE:http://bien-etre-et-creativite.wifeo.com
URL:http://bien-etre-et-creativite.wifeo.com
CONTACT:04.91.71.63.67  -  06.80.46.35.50
ORGANIZER;CN="Florence GAMET":https://epanews.fr/profile/FlorenceGAMET
ATTACH;FMTTYPE="image/jpeg":
ATTENDEE;ROLE=REQ-PARTICIPANT;PARTSTAT=ACCEPTED;RSVP=TRUE;CN="Florence
  GAMET":https://epanews.fr/profile/FlorenceGAMET
ATTENDEE;ROLE=REQ-PARTICIPANT;PARTSTAT=TENTATIVE;RSVP=TRUE;CN=danielst
 cyrsurmer:https://epanews.fr/profile/danielstcyrsurmer
ATTENDEE;ROLE=REQ-PARTICIPANT;PARTSTAT=TENTATIVE;RSVP=TRUE;CN="Franço
 ise Elisabeth":https://epanews.fr/profile/FrancoiseElisabeth
ATTENDEE;ROLE=REQ-PARTICIPANT;PARTSTAT=TENTATIVE;RSVP=TRUE;CN=sarn:htt
 ps://epanews.fr/profile/sarn
END:VEVENT
END:VCALENDAR
