BEGIN:VCALENDAR
PRODID:NingEventWidget-v1
VERSION:2.0
METHOD:PUBLISH
BEGIN:VTIMEZONE
TZID:Europe/Paris
X-LIC-LOCATION:Europe/Paris
BEGIN:DAYLIGHT
TZOFFSETFROM:+0100
TZOFFSETTO:+0200
TZNAME:CEST
DTSTART:19700329T020000
RRULE:FREQ=YEARLY;BYMONTH=3;BYDAY=-1SU
END:DAYLIGHT
BEGIN:STANDARD
TZOFFSETFROM:+0200
TZOFFSETTO:+0100
TZNAME:CET
DTSTART:19701025T030000
RRULE:FREQ=YEARLY;BYMONTH=10;BYDAY=-1SU
END:STANDARD
END:VTIMEZONE
BEGIN:VEVENT
UID:2485226:Event:2563790
DTSTAMP:20260422T065617Z
SUMMARY:Textazik Terres de Femmes
DESCRIPTION:Tout bientôt à Nîmes, les réservations sont ouvertes..
 ..Textazik Terres de Femmes\nSur des extraits du livre \"Terres de Fem
 mes\" textes recueillis par Yaël Catherinet-Buk (Éditions Regard et 
 Voir)\nVoyage-hommage au féminin en chacun de nous. Comment faire ger
 mer cette graine longtemps enfouie sous terre ?\nChemin de lunes Chemi
 n de femmes Combien de lunes m'ont appris à devenir femme ? Chemin de
  lunes Chemin de femmes Combien de lunes depuis la nuit des temps ? Ya
 ël Catherinet-Buk\nSang des lunes, vibration, danse, seins, désir, c
 orps vieillissant, maternité, OUI comme l’Union du O féminin et du
  I masculin... Quatre voix de femmes s'élèvent. La Jeune Fille. La F
 emme. La Grand-mère. L'Intemporelle, femme du temps. Chacune livre se
 s pensées, ses doutes, ses sensations, son état d'être.\nLe jour de
  la création de \"Terres de Femmes\", un spectateur masculin nous a o
 ffert ces quelques mots, l'oeil brillant : « Merci. Je suis ému. J'a
 ppréhendais, je pensais que ce serait féministe. Et pas du tout, cel
 a concerne tout le monde, hommes comme femmes. »\nLes deux polarités
  qui nous habitent, Yin et Yang, sont à considérer désormais d'un p
 oint de vue ontologique et non plus politique. L'union du masculin et 
 du féminin, comme l'alternance du jour et de la nuit, du soleil et de
  la lune, est remplie de bienveillance et chemine dans l'amour. La div
 ision ne mène à rien, l'opposition crée de la distance entre les ê
 tres, donc à l'intérieur de chacun. Il en est fini de la compétitio
 n et de la revendication. C'est le féminin qui remplace le féminisme
 . L'union élève, la division réduit. Margot Châron\nMerci aux P’
 lumineuses auteures : Marion Rebérat, Martine Wallez, Yaël Catherine
 t-Buk, Marie- Hélène Joudiou, Karine Nivon, Karine Clavier, Valérie
  Alvarez, Karen Cayuela, Sabrina Vital, Muriel Plantier, Ishtar Bast.\
 nAvec Margot Châron (voix) et Gilbert Thiéry (guitare électrique) 
 ● Collaboration artistique : Laure-Hélène Favennec Durée: 1h\nC
 ONTACT Margot Châron – Compagnie A Trois Branches 35 rue de Degré 
 - Hall B - 72000 Le Mans 06 74 74 87 81 contact@margotcharon.fr • ww
 w.margotcharon.fr\nà Nimes le vendredi 12 février, à 20h réservati
 on demandée prix des places 10€ info au 06 20 34 54 99 ou http://le
 chantdesarbres.over-blog.com/\n\n\nPour plus d'information, aller sur 
 https://epanews.fr/events/textazik-terres-de-femmes-nimes-le-vendredi-
 12-f-vrier-20h
DTSTART;TZID=Europe/Paris:20160212T200000
DTEND;TZID=Europe/Paris:20160212T220000
CATEGORIES:30
LOCATION:nimes
WEBSITE:http://lechantdesarbres.over-blog.com
URL:http://lechantdesarbres.over-blog.com
CONTACT:0
ORGANIZER;CN=Yaël:https://epanews.fr/profile/yael
ATTACH;FMTTYPE="image/jpeg":http://storage.ning.com/topology/rest/1.0/
 file/get/1663517921?profile=original
ATTENDEE;ROLE=REQ-PARTICIPANT;PARTSTAT=ACCEPTED;RSVP=TRUE;CN=Yaël:htt
 ps://epanews.fr/profile/yael
END:VEVENT
END:VCALENDAR
