BEGIN:VCALENDAR
PRODID:NingEventWidget-v1
VERSION:2.0
METHOD:PUBLISH
BEGIN:VTIMEZONE
TZID:Europe/Paris
X-LIC-LOCATION:Europe/Paris
BEGIN:DAYLIGHT
TZOFFSETFROM:+0100
TZOFFSETTO:+0200
TZNAME:CEST
DTSTART:19700329T020000
RRULE:FREQ=YEARLY;BYMONTH=3;BYDAY=-1SU
END:DAYLIGHT
BEGIN:STANDARD
TZOFFSETFROM:+0200
TZOFFSETTO:+0100
TZNAME:CET
DTSTART:19701025T030000
RRULE:FREQ=YEARLY;BYMONTH=10;BYDAY=-1SU
END:STANDARD
END:VTIMEZONE
BEGIN:VEVENT
UID:2485226:Event:747397
DTSTAMP:20260423T200946Z
SUMMARY:Atelier d 'Ecriture Créative, nouveau au centre
DESCRIPTION: Le vendredi 20 avril de 19h45 à 22h45\n\nPourquoi écrir
 e? Brigitte vous invite...\nParticiper à un atelier d'écriture créa
 tive, c'est se donner un espace pour pratiquer le plaisir d'écrire en
  écoute bienveillante. Tracer au gré de ses sensations des mots viva
 nts, Voyager au fil des textes et des pensées dans des territoires di
 fférents, Cheminer au cours du temps consacré dans les méandres et 
 les échos, Délier sa pensée en pleine lumière, Trouver son langage
  propre soufflant du coeur,\nEnrichir l'imaginaire des mille sollicita
 tions découvertes, Explorer sa créativité en toute confiance, Renco
 ntrer d'autres univers d'écriture et de pensées... L'atelier d'écri
 ture \"chemins de traverses\" offre l'occasion de prendre rendez-vous 
 avec soi, avec un groupe régulier, pour créer un moment de partage. 
 Les propositions sont étudiées pour entraîner votre plume à lâche
 r le meilleur et le pire, comme si vous jouiez avec. La fréquentation
  régulière de l'atelier amène progressivement à plus de confiance 
 et d'assurance. Les conversations et les échanges multiples enrichiss
 ent la conscience de la qualité de l'expression et amènent à s'appr
 oprier la profondeur, la singularité, l'unicité des perceptions et d
 es sensations, des sentiments et des pensées.\nÉcrire c'est se donne
 r à ce qui est plus grand, plus vaste, à cet inconnu salutaire qui d
 élivre de l'enfermement, c'est ouvrir une fenêtre sur l'intérieur .
 \nau plaisir de vous y rencontrer...\nParticipation: 15€\n\nPour plu
 s d'information, aller sur https://epanews.fr/events/telier-d-ecriture
 -cr-ative-nouveau-au-centre
DTSTART;TZID=Europe/Paris:20120420T194500
DTEND;TZID=Europe/Paris:20120420T224500
CATEGORIES:34
LOCATION:Montpellier
WEBSITE:http://www.laquetedelange.org/ateliers/53-les-ateliers-d-avril
URL:http://www.laquetedelange.org/ateliers/53-les-ateliers-d-avril
CONTACT:0953203738
ORGANIZER;CN="La Quête de l'Ange":https://epanews.fr/profile/LaQueted
 elAnge
ATTACH;FMTTYPE="image/jpeg":http://storage.ning.com/topology/rest/1.0/
 file/get/1662585385?profile=original
ATTENDEE;ROLE=REQ-PARTICIPANT;PARTSTAT=ACCEPTED;RSVP=TRUE;CN="La Quêt
 e de l'Ange":https://epanews.fr/profile/LaQuetedelAnge
END:VEVENT
END:VCALENDAR
