BEGIN:VCALENDAR
PRODID:NingEventWidget-v1
VERSION:2.0
METHOD:PUBLISH
BEGIN:VTIMEZONE
TZID:Europe/Paris
X-LIC-LOCATION:Europe/Paris
BEGIN:DAYLIGHT
TZOFFSETFROM:+0100
TZOFFSETTO:+0200
TZNAME:CEST
DTSTART:19700329T020000
RRULE:FREQ=YEARLY;BYMONTH=3;BYDAY=-1SU
END:DAYLIGHT
BEGIN:STANDARD
TZOFFSETFROM:+0200
TZOFFSETTO:+0100
TZNAME:CET
DTSTART:19701025T030000
RRULE:FREQ=YEARLY;BYMONTH=10;BYDAY=-1SU
END:STANDARD
END:VTIMEZONE
BEGIN:VEVENT
UID:2485226:Event:1334584
DTSTAMP:20260421T022432Z
SUMMARY:Technique Alexander - Mouvement - Danse - Impro
DESCRIPTION:Â  Â  A travers le plaisir de danser\nÂ  Â  Â  Â  Â  Â  Pr
 enez soin de vousÂ  Â  Â  Â  Â  Â  Â  Â  Retrouver fluiditÃ© et bien-Ã
 ªtreÂ  Â  Â  Â  Â  Â  Â  Â  Â  Â  ArrÃªtez ces habitudes qui maltraite
 nt votre dos  25, rue Chaudron - 75010 Paris - MÂ° Louis Blanc / Stali
 ngrad  On ne peut pas faire ce qu'on ne connaÃ®t pas mais en arrÃªtant
  certaines habitudes, on peut laisser Ã©merger le nouveau.On ne cherch
 e donc pas Ã  faire volontairement le geste juste mais plutÃ´t Ã  dÃ©f
 aire ce qui empÃªche le geste de vivre pleinement.Lors de ces ateliers
  je vous enseignerai les outils de la Technique Alexander Ã  travers l
 e mouvement et l'improvisation dansÃ©e.Vous apprendrez Ã  vous mouvoir
  d'une faÃ§on plus fluide et spontanÃ©e, Ã  laisser le mouvement naÃ®t
 re depuis la libÃ©ration des articulations.Ainsi une forme pourra Ã©me
 rger au delÃ  de l'intention et de la prÃ©mÃ©ditation.Vous n'avez pas 
 besoin de savoir danser pour participer.Tous les ateliers ont lieu le 
 samedi de 14h Ã  16hMai : 18Juin : 1 et 15Juillet 6Tarifs :- Je vous p
 ropose diffÃ©rentes formules (avec facilitÃ©s de paiement) :Cours Ã  l
 'unitÃ© : 35â‚¬Carte 3 cours : 99â‚¬Pour les Ã©tudiants et chÃ´meurs :
 Cours Ã  l'unitÃ© : 30â‚¬Carte 3 cours : 84â‚¬Pour vous inscrire, pour
  des renseignements, merci de me tÃ©lÃ©phoner au 06 73 35 89 97Merci d
 e faire suivre ces informations si le cÅ“ur vous en dit.Jean-Paul\n\nP
 our plus d'information, aller sur https://epanews.fr/events/technique-
 alexander-mouvement-danse-impro-1
DTSTART;TZID=Europe/Paris:20130504T140000
DTEND;TZID=Europe/Paris:20130504T160000
CATEGORIES:75
LOCATION:Paris 10Ã¨me
WEBSITE:
URL:
CONTACT:06 73 35 89 97
ORGANIZER;CN="Jean-Paul Iva":https://epanews.fr/profile/JeanPaulIva
ATTACH;FMTTYPE="image/jpeg":
ATTENDEE;ROLE=REQ-PARTICIPANT;PARTSTAT=ACCEPTED;RSVP=TRUE;CN="Jean-Pau
 l Iva":https://epanews.fr/profile/JeanPaulIva
END:VEVENT
END:VCALENDAR
