BEGIN:VCALENDAR
PRODID:NingEventWidget-v1
VERSION:2.0
METHOD:PUBLISH
BEGIN:VTIMEZONE
TZID:Europe/Paris
X-LIC-LOCATION:Europe/Paris
BEGIN:DAYLIGHT
TZOFFSETFROM:+0100
TZOFFSETTO:+0200
TZNAME:CEST
DTSTART:19700329T020000
RRULE:FREQ=YEARLY;BYMONTH=3;BYDAY=-1SU
END:DAYLIGHT
BEGIN:STANDARD
TZOFFSETFROM:+0200
TZOFFSETTO:+0100
TZNAME:CET
DTSTART:19701025T030000
RRULE:FREQ=YEARLY;BYMONTH=10;BYDAY=-1SU
END:STANDARD
END:VTIMEZONE
BEGIN:VEVENT
UID:2485226:Event:1948212
DTSTAMP:20260421T155526Z
SUMMARY:Tarot - référentiel de naissance
DESCRIPTION:ATELIER ANIME PAR ANNE GOURGOUILHON - refletdame.fr\n A l'
 ESPACE KI-ZEN\n Un atelier pour découvrir les symboles du Tarot au tr
 avers des 13 maisons de votre Référentiel de Naissance.\nNous visite
 rons chacune d'entre-elles pour en explorer les richesses, comprendre 
 les expériences et peut être trouver les verrous à désactiver. Cha
 cun pourra exprimer ce qu'il ressent et identifier plus clairement les
  impasses dans lesquelles il s'est engagé.  TARIF = 30 €  PLACES LI
 MITÉES - MERCI DE TÉLÉPHONER A L'ESPACE KI-ZEN POUR VALIDER LES INS
 CRIPTIONS\n\nPour plus d'information, aller sur https://epanews.fr/eve
 nts/tarot-r-f-rentiel-de-naissance
DTSTART;TZID=Europe/Paris:20140618T143000
DTEND;TZID=Europe/Paris:20140618T173000
CATEGORIES:13
LOCATION:Espace Ki-Zen
WEBSITE:
URL:
CONTACT:06.22.07.16.10
ORGANIZER;CN="Espace Ki-Zen":https://epanews.fr/profile/EspaceKiZen
ATTACH;FMTTYPE="image/jpeg":http://storage.ning.com/topology/rest/1.0/
 file/get/1663157694?profile=original
ATTENDEE;ROLE=REQ-PARTICIPANT;PARTSTAT=ACCEPTED;RSVP=TRUE;CN="Espace K
 i-Zen":https://epanews.fr/profile/EspaceKiZen
END:VEVENT
END:VCALENDAR
