BEGIN:VCALENDAR
PRODID:NingEventWidget-v1
VERSION:2.0
METHOD:PUBLISH
BEGIN:VTIMEZONE
TZID:Europe/Paris
X-LIC-LOCATION:Europe/Paris
BEGIN:DAYLIGHT
TZOFFSETFROM:+0100
TZOFFSETTO:+0200
TZNAME:CEST
DTSTART:19700329T020000
RRULE:FREQ=YEARLY;BYMONTH=3;BYDAY=-1SU
END:DAYLIGHT
BEGIN:STANDARD
TZOFFSETFROM:+0200
TZOFFSETTO:+0100
TZNAME:CET
DTSTART:19701025T030000
RRULE:FREQ=YEARLY;BYMONTH=10;BYDAY=-1SU
END:STANDARD
END:VTIMEZONE
BEGIN:VEVENT
UID:2485226:Event:1098042
DTSTAMP:20260422T003935Z
SUMMARY:Tarot et  RÃ©fÃ©rentiel de Naissance
DESCRIPTION:Â Â Â Â Â Â Â Â Â Â Â Â Â Â Â Â Â Â  ConfÃ©rence sur le RÃ
 ©fÃ©rentiel de Naissance\nIl est une reprÃ©sentation symbolique et le 
 miroir de votre histoire personnelle.\nIl est Ã©tabli Ã  partir de vot
 re date de naissance avec comme outil les 22 lames du Tarot de Marseil
 le et le dÃ©codage biologique\n\nPour plus d'information, aller sur ht
 tps://epanews.fr/events/tarot-et-r-f-rentiel-de-naissance
DTSTART;TZID=Europe/Paris:20130115T193000
DTEND;TZID=Europe/Paris:20130115T220000
CATEGORIES:69
LOCATION:Lyon
WEBSITE:
URL:
CONTACT:06 17 46 71 13
ORGANIZER;CN="PICCOLI EVELYNE":https://epanews.fr/profile/PICCOLIEVELY
 NE
ATTACH;FMTTYPE="image/jpeg":
ATTENDEE;ROLE=REQ-PARTICIPANT;PARTSTAT=ACCEPTED;RSVP=TRUE;CN="PICCOLI 
 EVELYNE":https://epanews.fr/profile/PICCOLIEVELYNE
END:VEVENT
END:VCALENDAR
