BEGIN:VCALENDAR
PRODID:NingEventWidget-v1
VERSION:2.0
METHOD:PUBLISH
BEGIN:VTIMEZONE
TZID:Europe/Paris
X-LIC-LOCATION:Europe/Paris
BEGIN:DAYLIGHT
TZOFFSETFROM:+0100
TZOFFSETTO:+0200
TZNAME:CEST
DTSTART:19700329T020000
RRULE:FREQ=YEARLY;BYMONTH=3;BYDAY=-1SU
END:DAYLIGHT
BEGIN:STANDARD
TZOFFSETFROM:+0200
TZOFFSETTO:+0100
TZNAME:CET
DTSTART:19701025T030000
RRULE:FREQ=YEARLY;BYMONTH=10;BYDAY=-1SU
END:STANDARD
END:VTIMEZONE
BEGIN:VEVENT
UID:2485226:Event:1125013
DTSTAMP:20260422T100654Z
SUMMARY:Tao du son confÃ©rence nÂ°4: couleurs et couleur thÃ©rapie
DESCRIPTION:Cycle de confÃ©rences GRATUITES:  LE TAO du SON  PrÃ©sentÃ
 © par Jean Michel VINCENT du cabinet Â« corps rÃ©sonance Â»  A partir 
 du mois dâ€™Octobre 2012 aura lieu Ã  la Â« voute aux oiseaux Â», le d
 Ã©but dâ€™un cycle de 7 confÃ©rences intitulÃ©es Â« le Tao du son Â». 
 Ce titre est empruntÃ© au livre de Fabien Maman qui a Ã©tÃ© mon enseig
 nant au sein de la Â« Tama Do Academy Â». Normalement la pÃ©riodicitÃ©
  de ces confÃ©rences sera de une Ã  deux par mois.  Dans le cadre des 
 nouvelles thÃ©rapies complÃ©mentaires et Ã©nergÃ©tiques, le son et la 
 couleur prennent une part de plus en plus importante. Notre rÃ©sonance
 , corps, mental et esprit, par rapport Ã  notre environnement, Ã  la n
 ature, Ã  la musique, aux rythmes des saisons, nâ€™est plus Ã  dÃ©mont
 rer.  Câ€™est avec humilitÃ© que je tenterai de vous inviter Ã  dÃ©cou
 vrir ce qui me passionne depuis mon enfance et qui ma amenÃ© Ã  suivre
  cette voie (voix).   Jeudi 24 Janvier 20h: Tao du son 4 Couleurs et c
 ouleur thÃ©rapies.  Nombreux sont les chercheurs qui ont Ã©voquÃ© l'in
 fluence des couleurs sur notre mÃ©tabolisme et notre psychisme. Cette 
 confÃ©rence permettra de connaitre ces diffÃ©rentes influences, et je 
 partagerais avec vous des textes et des mÃ©ditations sur les couleurs.
  Ce sera aussi l'occasion de dÃ©couvrir le vaisseau de lumiÃ¨re, mÃªla
 nt cristal et couleur pour une mÃ©ditation profonde.  Ceci nous permet
 tra de faire la transition, vers la prochaine confÃ©rence concernant l
 e minÃ©ral.   Durant les autres confÃ©rences a venir, jâ€™aborderai le
 s sujets :  -5 Le monde minÃ©ral - 6 Lâ€™influence du son sur la matiÃ
 ¨re, avec des expÃ©riences de cymatique. - 7 Et enfin une derniÃ¨re co
 nfÃ©rence qui abordera le thÃ¨me du silence  VoilÃ  pour lâ€™annonce, 
 je me fais dÃ©jÃ  une joie de partager cela avec vous A bientÃ´t Jean 
 Michel VINCENT. RÃ©fÃ©rences : Livre Â« le tao du son Â», Fabien Maman
 , chez Guy TrÃ©daniel Ã©diteur. Corps rÃ©sonance : http://corps-resona
 nce.fr/ Cymatics : http://www.cymaticsource.com/\nComment sâ€™y rendre
 Â :\nLe lieu est \"la voute aux oiseaux\", chemin sous le mas 30200 DO
 NNAT, proche de Bagnols sur CÃ¨ze en direction dâ€™AlÃ¨s . Au Rond poi
 nt entrÃ©e Nord de Bagnols, prendre ALES A environ 5km aprÃ¨s, prendre
  Ã  droite direction DONNAT. ArrivÃ© Ã  DONNAT, au panneau de prioritÃ
 ©, prendre la rue Ã  droite. Allez jusqu'au bout de la rue pour vous g
 arer sur le plateau lÃ©gÃ¨rement sur la gauche. La maison est la derni
 Ã¨re maison Ã  gauche donnant sur la rue, poussez la grille de la cour
 .\n\nPour plus d'information, aller sur https://epanews.fr/events/tao-
 du-son-4-couleurs-couleurs-th-rapie
DTSTART;TZID=Europe/Paris:20130124T200000
DTEND;TZID=Europe/Paris:20130124T220000
CATEGORIES:30
LOCATION:Donnat, la voute aux oiseaux
WEBSITE:
URL:
CONTACT:06 71 63 27 93
ORGANIZER;CN="Jean Michel":https://epanews.fr/profile/JeanMichel
ATTACH;FMTTYPE="image/jpeg":http://storage.ning.com/topology/rest/1.0/
 file/get/1662737871?profile=original
ATTENDEE;ROLE=REQ-PARTICIPANT;PARTSTAT=ACCEPTED;RSVP=TRUE;CN="Jean Mic
 hel":https://epanews.fr/profile/JeanMichel
END:VEVENT
END:VCALENDAR
