BEGIN:VCALENDAR
PRODID:NingEventWidget-v1
VERSION:2.0
METHOD:PUBLISH
BEGIN:VTIMEZONE
TZID:Europe/Paris
X-LIC-LOCATION:Europe/Paris
BEGIN:DAYLIGHT
TZOFFSETFROM:+0100
TZOFFSETTO:+0200
TZNAME:CEST
DTSTART:19700329T020000
RRULE:FREQ=YEARLY;BYMONTH=3;BYDAY=-1SU
END:DAYLIGHT
BEGIN:STANDARD
TZOFFSETFROM:+0200
TZOFFSETTO:+0100
TZNAME:CET
DTSTART:19701025T030000
RRULE:FREQ=YEARLY;BYMONTH=10;BYDAY=-1SU
END:STANDARD
END:VTIMEZONE
BEGIN:VEVENT
UID:2485226:Event:1113776
DTSTAMP:20260420T010614Z
SUMMARY:Initiation au Tantsu, rÃ©gion de Toulouse les 16 et 17 FÃ©vrie
 r 2013
DESCRIPTION:Nous vous proposons lesÂ 16 et 17 FÃ©vrier 2013, un weeken
 d d'InitiationÂ auÂ TANTSUÂ  Ã  cotÃ© deÂ ToulouseÂ Ã  Rieumes.\nÂ \n\
 nLeÂ TantsuÂ est une forme de massage issue du Watsu, le Shiatsu dans 
 l'eau. En intÃ©grant les bienfaits, il donne de l'espace Ã  l'Ã©coute 
 et Ã  l'empathie. Ã‰coute du souffle, des vibrations, du systÃ¨me nerv
 eux, des Ã©nergies...Il offre une connexion Ã  double sens et permet a
 u receveur de donner autant qu'il reÃ§oit. LeÂ TantsuÂ a une action au
  niveau biomÃ©canique, osseux, musculaire, lymphatique..., au niveau Ã
 ©nergÃ©tique en intÃ©grant la mÃ©decine traditionnelle chinoise, ainsi
  qu'au niveau mÃ©ditatif. Il permet, en outre, de dÃ©velopper la capac
 itÃ© Ã  bouger au sol avec souplesse et fluiditÃ© et offre de nouvelle
 s solutions grÃ¢ce Ã  ses diffÃ©rents \"Berceaux\". Il se dit Tantriqu
 e par son approche de l'amour universel Ã¡ partager. Ces deux jours au
  gÃ®te Poul'art seront animÃ©s par Emmanuel Pastor.Â \n\nPour plus d'i
 nformation,vous pouvez consulter le site d'Emmanuel :Â http://www.wata
 ge.eu/tantsuatoulouse.html.Â \nÂ \nLa participation pour le weekend es
 t de 150â‚¬ + 90â‚¬ pour l'hÃ©bergement et les repas.\nLe stage Ã  lie
 u au gite le Poul'art (http://www.le-poulart.fr/) Ã  Rieumes. Il comme
 nce le Samedi Ã  10h00 et se termine le Dimanche Ã  17h00.\nRenseignem
 ents et Inscription auprÃ¨s de Philippe Pastor : 06 62 04 97 03 -Â phi
 lippe.pastor@gmail.com\n\nÂ \nN'hÃ©sitez pas Ã  en parler autour de vo
 us. LeÂ TantsuÂ est une technique qui apporte beaucoup de bien Ãªtre a
 u monde.\nEn attendant de vous rencontrer,\nPhilippe\n\n\nPour plus d'
 information, aller sur https://epanews.fr/events/tantsu-toulouse-les-1
 6-et-17-f-vrier-2013
DTSTART;TZID=Europe/Paris:20130216T100000
DTEND;TZID=Europe/Paris:20130217T170000
CATEGORIES:31
LOCATION:Gite le Poul'art Ã  Rieumes (31)
WEBSITE:http://www.le-poulart.fr/
URL:http://www.le-poulart.fr/
CONTACT:06 62 04 97 03
ORGANIZER;CN=Philippe:https://epanews.fr/profile/philippepastor
ATTACH;FMTTYPE="image/jpeg":http://storage.ning.com/topology/rest/1.0/
 file/get/1662733345?profile=original
ATTENDEE;ROLE=REQ-PARTICIPANT;PARTSTAT=ACCEPTED;RSVP=TRUE;CN=Philippe:
 https://epanews.fr/profile/philippepastor
END:VEVENT
END:VCALENDAR
