BEGIN:VCALENDAR
PRODID:NingEventWidget-v1
VERSION:2.0
METHOD:PUBLISH
BEGIN:VTIMEZONE
TZID:Europe/Paris
X-LIC-LOCATION:Europe/Paris
BEGIN:DAYLIGHT
TZOFFSETFROM:+0100
TZOFFSETTO:+0200
TZNAME:CEST
DTSTART:19700329T020000
RRULE:FREQ=YEARLY;BYMONTH=3;BYDAY=-1SU
END:DAYLIGHT
BEGIN:STANDARD
TZOFFSETFROM:+0200
TZOFFSETTO:+0100
TZNAME:CET
DTSTART:19701025T030000
RRULE:FREQ=YEARLY;BYMONTH=10;BYDAY=-1SU
END:STANDARD
END:VTIMEZONE
BEGIN:VEVENT
UID:2485226:Event:1465356
DTSTAMP:20260422T024548Z
SUMMARY:tantra et éveil du corps/conscience
DESCRIPTION:Cercle ouvert et mixte   Du 8 (au soir) au 10 Novembre 201
 4 à Lons le Saunier  Le tantra, souvent perçue comme voie corporelle
  et aussi une voie spirituelle…Réajuster et réaligner nos trois pl
 ans base/Cœur/Conscience redonne Présence, Puissance et Action Juste
  au sein de notre Vie, avec Grace , Allégresse, Joie et Amour.   \n\n
 Pour plus d'information, aller sur https://epanews.fr/events/tantra-et
 -veil-du-corps-conscience
DTSTART;TZID=Europe/Paris:20141108T180000
DTEND;TZID=Europe/Paris:20141110T170000
CATEGORIES:39
LOCATION:lons le saunier
WEBSITE:http://www.emma-grillet.fr
URL:http://www.emma-grillet.fr
CONTACT:06 73 86 03 69
ORGANIZER;CN=emmagrillet:https://epanews.fr/profile/emmagrillet
ATTACH;FMTTYPE="image/jpeg":http://storage.ning.com/topology/rest/1.0/
 file/get/1662894732?profile=original
ATTENDEE;ROLE=REQ-PARTICIPANT;PARTSTAT=ACCEPTED;RSVP=TRUE;CN=emmagrill
 et:https://epanews.fr/profile/emmagrillet
END:VEVENT
END:VCALENDAR
