BEGIN:VCALENDAR
PRODID:NingEventWidget-v1
VERSION:2.0
METHOD:PUBLISH
BEGIN:VTIMEZONE
TZID:Europe/Paris
X-LIC-LOCATION:Europe/Paris
BEGIN:DAYLIGHT
TZOFFSETFROM:+0100
TZOFFSETTO:+0200
TZNAME:CEST
DTSTART:19700329T020000
RRULE:FREQ=YEARLY;BYMONTH=3;BYDAY=-1SU
END:DAYLIGHT
BEGIN:STANDARD
TZOFFSETFROM:+0200
TZOFFSETTO:+0100
TZNAME:CET
DTSTART:19701025T030000
RRULE:FREQ=YEARLY;BYMONTH=10;BYDAY=-1SU
END:STANDARD
END:VTIMEZONE
BEGIN:VEVENT
UID:2485226:Event:1701437
DTSTAMP:20260422T175635Z
SUMMARY:tantra decouverte de soi avec l 'autre
DESCRIPTION:une soirée découverte du tantra et de soi\npar l 'expér
 ience et dans un esprit de non dualité \net d'extention de notre con
 cience\navec:- des danses et meditations(osho )pour lacher le mental\n
         -des exercices tantriques des 5 sens\n   - des rencontre
 s homme-femmes en concience\nJ' anime ces ateliers depuis une dizaine 
 d'années et je reprend les enseignements de mes pratiques avec Daniel
  Odier,Paule Salomon et Alexandro Jodorowsky\nbienvenue a tous\ninscri
 ption en fonction de la parité\n25 euros\nbienvenue pour ce beau mome
 nt\ntel 06 16 43 16 49 Dan\n\n\nPour plus d'information, aller sur htt
 ps://epanews.fr/events/tantra-decouverte-de-soi-avec-l-autre
DTSTART;TZID=Europe/Paris:20140110T193000
DTEND;TZID=Europe/Paris:20140110T220000
CATEGORIES:75
LOCATION:paris 18
WEBSITE:http://http;//daniellabille9.wix.com/massage-corps-et-ame
URL:http://http;//daniellabille9.wix.com/massage-corps-et-ame
CONTACT:33616431649
ORGANIZER;CN="daniel labille":https://epanews.fr/profile/daniellabille
 505
ATTACH;FMTTYPE="image/jpeg":
ATTENDEE;ROLE=REQ-PARTICIPANT;PARTSTAT=ACCEPTED;RSVP=TRUE;CN="daniel l
 abille":https://epanews.fr/profile/daniellabille505
END:VEVENT
END:VCALENDAR
