BEGIN:VCALENDAR
PRODID:NingEventWidget-v1
VERSION:2.0
METHOD:PUBLISH
BEGIN:VTIMEZONE
TZID:Europe/Paris
X-LIC-LOCATION:Europe/Paris
BEGIN:DAYLIGHT
TZOFFSETFROM:+0100
TZOFFSETTO:+0200
TZNAME:CEST
DTSTART:19700329T020000
RRULE:FREQ=YEARLY;BYMONTH=3;BYDAY=-1SU
END:DAYLIGHT
BEGIN:STANDARD
TZOFFSETFROM:+0200
TZOFFSETTO:+0100
TZNAME:CET
DTSTART:19701025T030000
RRULE:FREQ=YEARLY;BYMONTH=10;BYDAY=-1SU
END:STANDARD
END:VTIMEZONE
BEGIN:VEVENT
UID:2485226:Event:1353195
DTSTAMP:20260421T225845Z
SUMMARY:Tantra Arc-en-ciel
DESCRIPTION:Le Tantra Arc-en-Ciel est une approche qui reconnaÃ®t, acc
 epte et cÃ©lÃ¨bre la totalitÃ© de lâ€™Ãªtre humain, tout lâ€™arc-en-ci
 el de ses couleurs, depuis lâ€™Ã©nergie sexuelle jusquâ€™Ã  lâ€™Ã©veil
  intÃ©rieur. Lâ€™accent est mis sur lâ€™Ã©coute de soi, la distance ju
 ste par rapport Ã  lâ€™autre, et lâ€™ouverture du coeur. >> Chetan JoÃ
 «l Samarpan : anime des stages de Tantra depuis 1991 http://www.tantra
 -arc-en-ciel.com/ >> Catherine Darbord : musicienne, thÃ©rapeute, pass
 ionnÃ©e de Tantra https://www.facebook.com/pages/Wakanda-vibrations/23
 5953609874463  ThÃ¨me soirÃ©e du 12 juin : Ã©veil des sens en conscien
 ce\nsoir%C3%A9es%20Tantra%2B%2B%2B.pdf\n\nPour plus d'information, all
 er sur https://epanews.fr/events/tantra-arc-en-ciel
DTSTART;TZID=Europe/Paris:20130612T203000
DTEND;TZID=Europe/Paris:20130612T223000
CATEGORIES:34
LOCATION:Montpellier
WEBSITE:http://espace-yoga.com/plan-dacces
URL:http://espace-yoga.com/plan-dacces
CONTACT:Inscriptions auprÃ¨s de Pascal au 06.63.57.13.99 (pendant heur
 es dÃ©jeuner et soirÃ©e)
ORGANIZER;CN="DARBORD Catherine":https://epanews.fr/profile/DARBORDCat
 herine
ATTACH;FMTTYPE="image/jpeg":http://storage.ning.com/topology/rest/1.0/
 file/get/1662835624?profile=original
ATTENDEE;ROLE=REQ-PARTICIPANT;PARTSTAT=ACCEPTED;RSVP=TRUE;CN="DARBORD 
 Catherine":https://epanews.fr/profile/DARBORDCatherine
END:VEVENT
END:VCALENDAR
