BEGIN:VCALENDAR
PRODID:NingEventWidget-v1
VERSION:2.0
METHOD:PUBLISH
BEGIN:VTIMEZONE
TZID:Europe/Paris
X-LIC-LOCATION:Europe/Paris
BEGIN:DAYLIGHT
TZOFFSETFROM:+0100
TZOFFSETTO:+0200
TZNAME:CEST
DTSTART:19700329T020000
RRULE:FREQ=YEARLY;BYMONTH=3;BYDAY=-1SU
END:DAYLIGHT
BEGIN:STANDARD
TZOFFSETFROM:+0200
TZOFFSETTO:+0100
TZNAME:CET
DTSTART:19701025T030000
RRULE:FREQ=YEARLY;BYMONTH=10;BYDAY=-1SU
END:STANDARD
END:VTIMEZONE
BEGIN:VEVENT
UID:2485226:Event:1433423
DTSTAMP:20260422T192009Z
SUMMARY:Tai Chi \"Le Soi en Mouvement\"
DESCRIPTION:Vous êtes invité à rejoindre le Groupe Point d'Emergenc
 e qui pratique l'approche Tai Chi dite \"Le Soi en Mouvement\" au Châ
 teau de Chamarande dimanche 30 juin 2013. Rendez-vous devant la grille
  du château (coté RER). Ouvert à tous débutant ou pas. Participati
 on libre. RER de Paris austerlitz 45 mn. Le château est à une minute
  de la gare à pied. Pour les retardataires partir à droite une fois 
 entré nous sommes près de l'étang sous les arbres.\ncontact 06 25 0
 3 51 44\n\nPour plus d'information, aller sur https://epanews.fr/event
 s/tai-chi-le-soi-en-mouvement-1
DTSTART;TZID=Europe/Paris:20130630T100000
DTEND;TZID=Europe/Paris:20130630T150000
CATEGORIES:91
LOCATION:Château de Chamarande
WEBSITE:
URL:
CONTACT:06 25 03 51 44
ORGANIZER;CN="Patrick Ongaro":https://epanews.fr/profile/PatrickOngaro
ATTACH;FMTTYPE="image/jpeg":http://storage.ning.com/topology/rest/1.0/
 file/get/1662878187?profile=original
ATTENDEE;ROLE=REQ-PARTICIPANT;PARTSTAT=ACCEPTED;RSVP=TRUE;CN="Patrick 
 Ongaro":https://epanews.fr/profile/PatrickOngaro
END:VEVENT
END:VCALENDAR
