BEGIN:VCALENDAR
PRODID:NingEventWidget-v1
VERSION:2.0
METHOD:PUBLISH
BEGIN:VTIMEZONE
TZID:Europe/Paris
X-LIC-LOCATION:Europe/Paris
BEGIN:DAYLIGHT
TZOFFSETFROM:+0100
TZOFFSETTO:+0200
TZNAME:CEST
DTSTART:19700329T020000
RRULE:FREQ=YEARLY;BYMONTH=3;BYDAY=-1SU
END:DAYLIGHT
BEGIN:STANDARD
TZOFFSETFROM:+0200
TZOFFSETTO:+0100
TZNAME:CET
DTSTART:19701025T030000
RRULE:FREQ=YEARLY;BYMONTH=10;BYDAY=-1SU
END:STANDARD
END:VTIMEZONE
BEGIN:VEVENT
UID:2485226:Event:2761142
DTSTAMP:20260421T052107Z
SUMMARY:Tableau de vision
DESCRIPTION:Grace a cet atelier vous programmez votre inconscient à v
 os projets et vos reves.... mise en place de techniques d'ancrage trou
 ver son centre de vie instinctive et intuitive, dont dépendent toutes
  nos fonctions physiologiques mais aussi psychologiques. Et après ca.
 .. mettre en place tous vos désirs et rêves sur un tableau ou feuill
 e à l'aide de découpage/collage mais aussi coloriage....tout en part
 ageant vos ressentis avec les autres personnes inscrites... tous se me
 ttra en place.  10 € sans fourniture15 € avec\n\nPour plus d'infor
 mation, aller sur https://epanews.fr/events/tableau-de-vision
DTSTART;TZID=Europe/Paris:20170110T140000
DTEND;TZID=Europe/Paris:20170110T170000
CATEGORIES:84
LOCATION:Mornas
WEBSITE:http://fleurs2zen.wixsite.com/mornas
URL:http://fleurs2zen.wixsite.com/mornas
CONTACT:0629762946
ORGANIZER;CN="Véronique de Falco":https://epanews.fr/profile/Veroniqu
 edeFalco
ATTACH;FMTTYPE="image/jpeg":
ATTENDEE;ROLE=REQ-PARTICIPANT;PARTSTAT=ACCEPTED;RSVP=TRUE;CN="Véroniq
 ue de Falco":https://epanews.fr/profile/VeroniquedeFalco
END:VEVENT
END:VCALENDAR
