BEGIN:VCALENDAR
PRODID:NingEventWidget-v1
VERSION:2.0
METHOD:PUBLISH
BEGIN:VTIMEZONE
TZID:Europe/Paris
X-LIC-LOCATION:Europe/Paris
BEGIN:DAYLIGHT
TZOFFSETFROM:+0100
TZOFFSETTO:+0200
TZNAME:CEST
DTSTART:19700329T020000
RRULE:FREQ=YEARLY;BYMONTH=3;BYDAY=-1SU
END:DAYLIGHT
BEGIN:STANDARD
TZOFFSETFROM:+0200
TZOFFSETTO:+0100
TZNAME:CET
DTSTART:19701025T030000
RRULE:FREQ=YEARLY;BYMONTH=10;BYDAY=-1SU
END:STANDARD
END:VTIMEZONE
BEGIN:VEVENT
UID:2485226:Event:1106696
DTSTAMP:20260421T200929Z
SUMMARY:Table Ronde sur le thème \"pourquoi suis-je né?\"
DESCRIPTION:Je vous propose une table ronde autour de cette question 
 : Pourquoi suis-je né?\nLa table ronde consiste en un échange libre 
 autour d'un thème et d'un questionnement en rapport avec l'enseigneme
 nt universel. \nLa table ronde se veut un partage et un dialogue sans
  a priori sur la \"vérité\" d'une question. Elle permet d'approcher 
 et d'approfondir un questionnement en partant de l'expérience des par
 ticipants. Chacun(e) peut s'exprimer, s'il le souhaite.\nCette activit
 é est proposée par l'Ecole Gnostique de la Rose Croix d'Or. J'animer
 ai cette table ronde (avec une ou deux autres personnes) dans le centr
 e de l'Ecole de la Rose Croix d'Or de Montpellier.\nL'entrée est grat
 uite. Pour plus d'infos, vous pouvez m'appeler au 0632565098 ou aller 
 sur le site www.rose-croix-d-or.org\n\nPour plus d'information, aller 
 sur https://epanews.fr/events/table-ronde-pourquoi-suis-je-ne
DTSTART;TZID=Europe/Paris:20130116T200000
DTEND;TZID=Europe/Paris:20130116T220000
CATEGORIES:34
LOCATION:Centre Rose Croix d'Or
WEBSITE:http://www.rose-croix-d-or.org
URL:http://www.rose-croix-d-or.org
CONTACT:0632565098
ORGANIZER:association rose croix d'or
ATTACH;FMTTYPE="image/jpeg":
ATTENDEE;ROLE=REQ-PARTICIPANT;PARTSTAT=ACCEPTED;RSVP=TRUE;CN=interstit
 iel:https://epanews.fr/profile/interstitiel
END:VEVENT
END:VCALENDAR
