BEGIN:VCALENDAR
PRODID:NingEventWidget-v1
VERSION:2.0
METHOD:PUBLISH
BEGIN:VTIMEZONE
TZID:Europe/Paris
X-LIC-LOCATION:Europe/Paris
BEGIN:DAYLIGHT
TZOFFSETFROM:+0100
TZOFFSETTO:+0200
TZNAME:CEST
DTSTART:19700329T020000
RRULE:FREQ=YEARLY;BYMONTH=3;BYDAY=-1SU
END:DAYLIGHT
BEGIN:STANDARD
TZOFFSETFROM:+0200
TZOFFSETTO:+0100
TZNAME:CET
DTSTART:19701025T030000
RRULE:FREQ=YEARLY;BYMONTH=10;BYDAY=-1SU
END:STANDARD
END:VTIMEZONE
BEGIN:VEVENT
UID:2485226:Event:1690251
DTSTAMP:20260422T184526Z
SUMMARY:TÃ©moignage d'Ã©veil - tÃ©moignage de l'Amour : des Ã©preuves 
 Ã  l'union divine
DESCRIPTION:TournÃ©e Suisse TÃ©moignage d'union divine - tÃ©moignage d
 e l'Amour Carole Aliya nous parle d'Amour :Â  \"TesÂ  textes rÃ©veille
 nt la sÃ¨ve en mon Ãªtre, et raniment la Flamme.\" L'auteur tÃ©moigner
 a des GrÃ¢ces qu'elle a reÃ§ues et qui l'amena jusqu'Ã  l'Ã©veil en 20
 05 : \"L'infini est en soi\", nous dit-elle. Ses livres sont des hymne
 s Ã  l'Amour, Ã  la conscience du sacrÃ©, une invitation Ã  plonger da
 ns le coeur de notre Ãªtre, Ã  se laisser emporter par cet amour divin
 , par cet  \"amour-amoureux\". Dans cette confÃ©rence, le tÃ©moignage 
 de l'auteur, au destin peu commun, animera notre coeur. Elle nous dÃ©m
 ontrera que nousÂ  pouvons nous relever de toutes les Ã©preuves. Nous 
 en sortirons rempli de beaucoup d'espoir : \"Vos mots amoureux ont imm
 Ã©diatement fait danser mon Ã¢me\".  En 2nd partie : PrÃ©sentation de 
 nouveaux outils qui ont Ã©tÃ© crÃ©Ã©s par Carole Aliya. Ils Ã©mergent 
 d'une nouvelle conscience et nous accompagnent dans chaque Ã©tape de n
 otre vie : essences florales, cristaux et arbres. Ils nous feront pren
 dre conscience des diffÃ©rentes Ã©tapes que nous avons Ã  franchir pou
 r parvenir Ã  soi, Ã  l'unitÃ©. Une goutte d'essences est comme une Ã©
 tincelle de vie Ã  dÃ©poser en nous. Merveilleux outils trÃ¨s complets
  Ã  dÃ©couvrir. Des textes Ã  lire en conscience sont proposÃ©s pour c
 haque essence.\n  Samedi 1er mars, ConfÃ©rence, 10h00, librairie Rayon
  du Soleil, Lausanne Inscription Ã  la librairie : +41 24 436 19 83\nÂ
  \nEn Suisse du 25 fÃ©vrier au 3/4 mars. En cours d'organisation. Voir
  sur mon site. \nExceptionnellement, le lendemain des confÃ©rences, en
 tretiens individuels et soins.\n\nPour plus d'information, aller sur h
 ttps://epanews.fr/events/t-moignage-d-veil-t-moignage-de-l-amour-des-p
 reuves-l-union-1
DTSTART;TZID=Europe/Paris:20140301T100000
DTEND;TZID=Europe/Paris:20140301T120000
CATEGORIES:suisse
LOCATION:librairie Rayon du soleil
WEBSITE:http://carolealiya.free.fr/Programmedetaille.html
URL:http://carolealiya.free.fr/Programmedetaille.html
CONTACT:33-6 61 17 78 34
ORGANIZER;CN="Carole Aliya":https://epanews.fr/profile/carolealiyafree
 fr
ATTACH;FMTTYPE="image/jpeg":http://storage.ning.com/topology/rest/1.0/
 file/get/1663001473?profile=original
ATTENDEE;ROLE=REQ-PARTICIPANT;PARTSTAT=ACCEPTED;RSVP=TRUE;CN="Carole A
 liya":https://epanews.fr/profile/carolealiyafreefr
END:VEVENT
END:VCALENDAR
