BEGIN:VCALENDAR
PRODID:NingEventWidget-v1
VERSION:2.0
METHOD:PUBLISH
BEGIN:VTIMEZONE
TZID:Europe/Paris
X-LIC-LOCATION:Europe/Paris
BEGIN:DAYLIGHT
TZOFFSETFROM:+0100
TZOFFSETTO:+0200
TZNAME:CEST
DTSTART:19700329T020000
RRULE:FREQ=YEARLY;BYMONTH=3;BYDAY=-1SU
END:DAYLIGHT
BEGIN:STANDARD
TZOFFSETFROM:+0200
TZOFFSETTO:+0100
TZNAME:CET
DTSTART:19701025T030000
RRULE:FREQ=YEARLY;BYMONTH=10;BYDAY=-1SU
END:STANDARD
END:VTIMEZONE
BEGIN:VEVENT
UID:2485226:Event:1045434
DTSTAMP:20260421T113433Z
SUMMARY:Télé-thon 2012 - un geste, un élan du cœur !!!
DESCRIPTION:Télé-thon 2012 - un geste, un élan du cœur   A l'occas
 ion du Télé-thon 2012, faites une B.A. (bonne action).  Nous vous pr
 oposons un massage californien ou thaïlandais de 20 minutes au tarif 
 de 25€ tout au long de la journée du Vendredi de 10h à 17h par tra
 nche de demi-heure. Réservez vite ... Merci pour eux  L’INTÉGRALIT
 É DES SOMMES PERCUES SERRONT REVERCE POUR LE TÉLÉ-THON 2012\nInscri
 ption sur : http://www.lasourcedenergie.fr/contact/formulaire-d-inscri
 ption/  Renseignements sur : http://www.lasourcedenergie.fr/contact/de
 mande-de-renseignements/\n\nPour plus d'information, aller sur https:/
 /epanews.fr/events/t-l-thon-2012-un-geste-un-lan-du-c-ur
DTSTART;TZID=Europe/Paris:20121207T100000
DTEND;TZID=Europe/Paris:20121207T170000
CATEGORIES:30
LOCATION:Centre : \"GAÏA - La source d'énergie .fr\"
WEBSITE:http://www.lasourcedenergie.fr/
URL:http://www.lasourcedenergie.fr/
CONTACT:06.29.50.42.53
ORGANIZER;CN=Patrick:https://epanews.fr/profile/lasourcedenergie
ATTACH;FMTTYPE="image/jpeg":http://storage.ning.com/topology/rest/1.0/
 file/get/1662707822?profile=original
ATTENDEE;ROLE=REQ-PARTICIPANT;PARTSTAT=ACCEPTED;RSVP=TRUE;CN=Patrick:h
 ttps://epanews.fr/profile/lasourcedenergie
END:VEVENT
END:VCALENDAR
