BEGIN:VCALENDAR
PRODID:NingEventWidget-v1
VERSION:2.0
METHOD:PUBLISH
BEGIN:VTIMEZONE
TZID:Europe/Paris
X-LIC-LOCATION:Europe/Paris
BEGIN:DAYLIGHT
TZOFFSETFROM:+0100
TZOFFSETTO:+0200
TZNAME:CEST
DTSTART:19700329T020000
RRULE:FREQ=YEARLY;BYMONTH=3;BYDAY=-1SU
END:DAYLIGHT
BEGIN:STANDARD
TZOFFSETFROM:+0200
TZOFFSETTO:+0100
TZNAME:CET
DTSTART:19701025T030000
RRULE:FREQ=YEARLY;BYMONTH=10;BYDAY=-1SU
END:STANDARD
END:VTIMEZONE
BEGIN:VEVENT
UID:2485226:Event:1315116
DTSTAMP:20260421T200853Z
SUMMARY:Téléconférence Gratuite \"La Non-Dualité\"
DESCRIPTION:\" La non-dualité \"\nTéléconférence    mercredi 19
  juin  à  20h30\nAu commencement il n'y avait que l'absolu. Cependa
 nt l'absolu avait envie de se connaître.      Alors pour mieux s'
 expérimenter il décide de se diviser en créant volontairement la po
 larité ce qui est et son opposé ce qui n'est pas.       Le bien,
  le mal - le noir, le blanc - l’amour, la peur - la joie, la tristes
 se ... Nous abordons donc aujourd'hui la vie avec un état de contradi
 ction, des pensées duelles, l'égo, ce qui génère la souffrance. Al
 ors qu'à la base désir et peur, amour et haine sont de même nature.
 \nQu'est ce que la non dualité, comment la retrouver ?\n\nPour plus d
 'information, aller sur https://epanews.fr/events/t-l-conf-rence-gratu
 ite-la-non-dualit
DTSTART;TZID=Europe/Paris:20130619T203000
DTEND;TZID=Europe/Paris:20130619T213000
CATEGORIES:tous
LOCATION:De chez vous
WEBSITE:http://www.geraldinebergon.com
URL:http://www.geraldinebergon.com
CONTACT:
ORGANIZER;CN=Géraldine:https://epanews.fr/profile/Geraldine
ATTACH;FMTTYPE="image/jpeg":http://storage.ning.com/topology/rest/1.0/
 file/get/1662816968?profile=original
ATTENDEE;ROLE=REQ-PARTICIPANT;PARTSTAT=ACCEPTED;RSVP=TRUE;CN=Géraldin
 e:https://epanews.fr/profile/Geraldine
END:VEVENT
END:VCALENDAR
