BEGIN:VCALENDAR
PRODID:NingEventWidget-v1
VERSION:2.0
METHOD:PUBLISH
BEGIN:VTIMEZONE
TZID:Europe/Paris
X-LIC-LOCATION:Europe/Paris
BEGIN:DAYLIGHT
TZOFFSETFROM:+0100
TZOFFSETTO:+0200
TZNAME:CEST
DTSTART:19700329T020000
RRULE:FREQ=YEARLY;BYMONTH=3;BYDAY=-1SU
END:DAYLIGHT
BEGIN:STANDARD
TZOFFSETFROM:+0200
TZOFFSETTO:+0100
TZNAME:CET
DTSTART:19701025T030000
RRULE:FREQ=YEARLY;BYMONTH=10;BYDAY=-1SU
END:STANDARD
END:VTIMEZONE
BEGIN:VEVENT
UID:2485226:Event:706242
DTSTAMP:20260423T191506Z
SUMMARY:Sylviel Leuca sophroénergéticienne conférencière
DESCRIPTION:Atelier/conférence    L'Homme et L'Amour \nSamedi 25 F
 évrier 15H00 salle Mozart TOULON Venez nombreux !\nParticipation 7 eu
 ros\n\nPour plus d'information, aller sur https://epanews.fr/events/sy
 lviel-leuca-sophro-nerg-ticienne-conf-renci-re
DTSTART;TZID=Europe/Paris:20120225T150000
DTEND;TZID=Europe/Paris:20120225T180000
CATEGORIES:83
LOCATION:Toulon
WEBSITE:
URL:
CONTACT:
ORGANIZER;CN="leuca sylvie":https://epanews.fr/profile/leucasylvie
ATTACH;FMTTYPE="image/jpeg":
ATTENDEE;ROLE=REQ-PARTICIPANT;PARTSTAT=ACCEPTED;RSVP=TRUE;CN="leuca sy
 lvie":https://epanews.fr/profile/leucasylvie
END:VEVENT
END:VCALENDAR
