BEGIN:VCALENDAR
PRODID:NingEventWidget-v1
VERSION:2.0
METHOD:PUBLISH
BEGIN:VTIMEZONE
TZID:Europe/Paris
X-LIC-LOCATION:Europe/Paris
BEGIN:DAYLIGHT
TZOFFSETFROM:+0100
TZOFFSETTO:+0200
TZNAME:CEST
DTSTART:19700329T020000
RRULE:FREQ=YEARLY;BYMONTH=3;BYDAY=-1SU
END:DAYLIGHT
BEGIN:STANDARD
TZOFFSETFROM:+0200
TZOFFSETTO:+0100
TZNAME:CET
DTSTART:19701025T030000
RRULE:FREQ=YEARLY;BYMONTH=10;BYDAY=-1SU
END:STANDARD
END:VTIMEZONE
BEGIN:VEVENT
UID:2485226:Event:425698
DTSTAMP:20260424T004154Z
SUMMARY:Sylvie Médium soin sur Albi le 10/11 septembre
DESCRIPTION:Bonjours à tous et toutes , Sylvie qui est médium aprés
  deux NDE , oeuvre aujourd'hui pour accompagner chaqu'un e , une aide
  précieuse sur le chemin du retour , sur RV .Elle serrat à Albi le 
 10 et 11 sepetmbre , au Coeur de Jade , contact et reservation .\n \n
 Djack\n\nPour plus d'information, aller sur https://epanews.fr/events/
 sylvie-m-dium-soin-sur-albi-le
DTSTART;TZID=Europe/Paris:20110910T000000
DTEND;TZID=Europe/Paris:20110911T235900
CATEGORIES:81
LOCATION:Albi
WEBSITE:
URL:
CONTACT:0612526248
ORGANIZER;CN="Djack Kool":https://epanews.fr/profile/DjackKool
ATTACH;FMTTYPE="image/jpeg":
ATTENDEE;ROLE=REQ-PARTICIPANT;PARTSTAT=ACCEPTED;RSVP=TRUE;CN="Djack Ko
 ol":https://epanews.fr/profile/DjackKool
END:VEVENT
END:VCALENDAR
