BEGIN:VCALENDAR
PRODID:NingEventWidget-v1
VERSION:2.0
METHOD:PUBLISH
BEGIN:VTIMEZONE
TZID:Europe/Paris
X-LIC-LOCATION:Europe/Paris
BEGIN:DAYLIGHT
TZOFFSETFROM:+0100
TZOFFSETTO:+0200
TZNAME:CEST
DTSTART:19700329T020000
RRULE:FREQ=YEARLY;BYMONTH=3;BYDAY=-1SU
END:DAYLIGHT
BEGIN:STANDARD
TZOFFSETFROM:+0200
TZOFFSETTO:+0100
TZNAME:CET
DTSTART:19701025T030000
RRULE:FREQ=YEARLY;BYMONTH=10;BYDAY=-1SU
END:STANDARD
END:VTIMEZONE
BEGIN:VEVENT
UID:2485226:Event:1493401
DTSTAMP:20260423T235039Z
SUMMARY:Sweat Lodges et cérémonie de Tabac
DESCRIPTION:Un week-end de cérémonie chamanique avec deux sweat lodg
 es, un soin chamanique de groupe et une cérémonie de tabac.\nCédric
  guide des cérémonies chamaniques depuis plus de 10 ans. Danseur du 
 Soleil, il organise et guide des aventures chamaniques en Europe et da
 ns le monde.\nIl propose ce week end entant que Joie de célébrer la 
 cérémonie sacré de la vie entre frère et soeur de Mère Terre.\nVo
 us êtes les bienvenus !\n\nPour plus d'information, aller sur https:/
 /epanews.fr/events/sweat-lodges-et-c-r-monie-de-tabac
DTSTART;TZID=Europe/Paris:20131129T140000
DTEND;TZID=Europe/Paris:20131201T140000
CATEGORIES:31
LOCATION:lagraulhet st nicolas
WEBSITE:http://www.cedricdelaveau.com
URL:http://www.cedricdelaveau.com
CONTACT:06.18.18.90.86
ORGANIZER;CN=Cedric:https://epanews.fr/profile/Cedric182
ATTACH;FMTTYPE="image/jpeg":http://storage.ning.com/topology/rest/1.0/
 file/get/1662906545?profile=original
ATTENDEE;ROLE=REQ-PARTICIPANT;PARTSTAT=ACCEPTED;RSVP=TRUE;CN=Cedric:ht
 tps://epanews.fr/profile/Cedric182
END:VEVENT
END:VCALENDAR
