BEGIN:VCALENDAR
PRODID:NingEventWidget-v1
VERSION:2.0
METHOD:PUBLISH
BEGIN:VTIMEZONE
TZID:Europe/Paris
X-LIC-LOCATION:Europe/Paris
BEGIN:DAYLIGHT
TZOFFSETFROM:+0100
TZOFFSETTO:+0200
TZNAME:CEST
DTSTART:19700329T020000
RRULE:FREQ=YEARLY;BYMONTH=3;BYDAY=-1SU
END:DAYLIGHT
BEGIN:STANDARD
TZOFFSETFROM:+0200
TZOFFSETTO:+0100
TZNAME:CET
DTSTART:19701025T030000
RRULE:FREQ=YEARLY;BYMONTH=10;BYDAY=-1SU
END:STANDARD
END:VTIMEZONE
BEGIN:VEVENT
UID:2485226:Event:965362
DTSTAMP:20260419T213047Z
SUMMARY:Swami Nithyananda en visioconférence à Paris le 10 novembre 
 2012
DESCRIPTION:En direct de l'Inde Conférence gratuite à Paris : le 10 
 Novembre \"La Science et la spiritualité en 2012\" De 18h30 à 20h00 
 au Holiday Inn Express Paris-Place D'Italie 178 boulevard Vincent Auri
 ol- 75013 Paris \n\nParamahamsa Nithyananda est un enseignant internat
 ional de yoga, de guérison spirituelle, des sciences de l’éveil de
  la kundalini et de l’illumination. Video à voir : 2012 : Vérité 
 et non prophéties. En savoir plus\n\nPour plus d'information, aller 
 sur https://epanews.fr/events/swami-nithyananda-en-france-al-s-le-5-et
 -6-novembre-2012
DTSTART;TZID=Europe/Paris:20121110T183000
DTEND;TZID=Europe/Paris:20121110T200000
CATEGORIES:75
LOCATION:Paris 13
WEBSITE:https://maps.google.fr/maps?hl=en&ie=UTF-8&q=Le+Puy+en+Velay++
 +++Centre+Pierre+Cardinal+9+Rue+Jules+Vall%C3%A8s+43000+Le+Puy-En-Vela
 y&fb=1&gl=fr&hq=Le+Puy+en+Velay+++++Centre+Pierre+Cardinal+9+Rue+Jules
 +Vall%C3%A8s+43000+Le+Puy-En-Velay&cid=0,0,13439370978135044874&ei=37K
 RUNn3EtGKhQe20YDoAg&ved=0CJ4BEPwSMAM
URL:https://maps.google.fr/maps?hl=en&ie=UTF-8&q=Le+Puy+en+Velay+++++C
 entre+Pierre+Cardinal+9+Rue+Jules+Vall%C3%A8s+43000+Le+Puy-En-Velay&fb
 =1&gl=fr&hq=Le+Puy+en+Velay+++++Centre+Pierre+Cardinal+9+Rue+Jules+Val
 l%C3%A8s+43000+Le+Puy-En-Velay&cid=0,0,13439370978135044874&ei=37KRUNn
 3EtGKhQe20YDoAg&ved=0CJ4BEPwSMAM
CONTACT:06 79 15 70 15 - 06 12 79 54 18
ORGANIZER;CN="Ananda - Chant & Yoga du son":https://epanews.fr/profile
 /SwarInternational
ATTACH;FMTTYPE="image/jpeg":http://storage.ning.com/topology/rest/1.0/
 file/get/1662676218?profile=original
ATTENDEE;ROLE=REQ-PARTICIPANT;PARTSTAT=ACCEPTED;RSVP=TRUE;CN="Ananda -
  Chant & Yoga du son":https://epanews.fr/profile/SwarInternational
ATTENDEE;ROLE=REQ-PARTICIPANT;PARTSTAT=ACCEPTED;RSVP=TRUE;CN=AMBRE:htt
 ps://epanews.fr/profile/AMBRE999
END:VEVENT
END:VCALENDAR
