BEGIN:VCALENDAR
PRODID:NingEventWidget-v1
VERSION:2.0
METHOD:PUBLISH
BEGIN:VTIMEZONE
TZID:Europe/Paris
X-LIC-LOCATION:Europe/Paris
BEGIN:DAYLIGHT
TZOFFSETFROM:+0100
TZOFFSETTO:+0200
TZNAME:CEST
DTSTART:19700329T020000
RRULE:FREQ=YEARLY;BYMONTH=3;BYDAY=-1SU
END:DAYLIGHT
BEGIN:STANDARD
TZOFFSETFROM:+0200
TZOFFSETTO:+0100
TZNAME:CET
DTSTART:19701025T030000
RRULE:FREQ=YEARLY;BYMONTH=10;BYDAY=-1SU
END:STANDARD
END:VTIMEZONE
BEGIN:VEVENT
UID:2485226:Event:2881957
DTSTAMP:20260424T154949Z
SUMMARY:Surdouessence²
DESCRIPTION:\nSalon sur la surdouance et l'hypersensibilité\n\nAnimat
 ions - Ateliers - Stands - Dédicaces - Documentations - Présentation
  d'outils thérapeutiques recommandés pour les hypersensibles - Prés
 entation d'accompagnement spécialisé - Graines de futur pour une soc
 iété plus juste et plus pérenne\nExposition \"Les Surdoués ont du 
 talent !\" (œuvres d'art réalisées par des zèbres de tout âge)\nL
 'entrée du salon est gratuite, il est agrémenté d'un colloque sur l
 a thématique dans le bâtiment d'en face (conférences payantes : 50
  euros l'ensemble du programme du week-end / 30 euros pour une journé
 e seule). Parmi les nombreux intervenants du colloque, Christel PETITC
 OLLIN, SMAÏN, Yor PFEIFFER, Saverio TOMASELLA, Caroline GAUTHIER et 
 Fiona RUEMGARDT\nUne manifestation arc-en-ciel proposant de se réunir
  et d'échanger autour de cette thématique et de l'aborder par diff
 rentes approches, de façon toujours positive et constructive. Au-del
 à de la surdouance proprement dite, c'est la différence en général
 e et la multipotentialité qui sont célébrées\nL'événement comm
 ence le vendredi par un programme d'ouverture offert à tous, avec ap
 ritif dînatoire, qui sera tenu dans la convivialité par l'organisat
 eur Alban BOURDY, accompagné notamment de la marraine de l'édition, 
 ainsi que de l'auteure et comédienne Ema PEREY et le suisse Philip KO
 ENIG\n\n au Centre de Congrès AGORA d'Aubagne\n\n\n\nPour plus d'inf
 ormation, aller sur https://epanews.fr/events/surdouessence
DTSTART;TZID=Europe/Paris:20171201T183000
DTEND;TZID=Europe/Paris:20171203T183000
CATEGORIES:13
LOCATION:Aubagne
WEBSITE:http://surdouessence.fr/
URL:http://surdouessence.fr/
CONTACT:06.27.67.50.71 / l.arbre.de.vie13@gmail.com
ORGANIZER;CN="Alban Bourdy":https://epanews.fr/profile/AlbanBourdy
ATTACH;FMTTYPE="image/jpeg":http://storage.ning.com/topology/rest/1.0/
 file/get/1663694472?profile=original
ATTENDEE;ROLE=REQ-PARTICIPANT;PARTSTAT=ACCEPTED;RSVP=TRUE;CN="Alban Bo
 urdy":https://epanews.fr/profile/AlbanBourdy
END:VEVENT
END:VCALENDAR
