BEGIN:VCALENDAR
PRODID:NingEventWidget-v1
VERSION:2.0
METHOD:PUBLISH
BEGIN:VTIMEZONE
TZID:Europe/Paris
X-LIC-LOCATION:Europe/Paris
BEGIN:DAYLIGHT
TZOFFSETFROM:+0100
TZOFFSETTO:+0200
TZNAME:CEST
DTSTART:19700329T020000
RRULE:FREQ=YEARLY;BYMONTH=3;BYDAY=-1SU
END:DAYLIGHT
BEGIN:STANDARD
TZOFFSETFROM:+0200
TZOFFSETTO:+0100
TZNAME:CET
DTSTART:19701025T030000
RRULE:FREQ=YEARLY;BYMONTH=10;BYDAY=-1SU
END:STANDARD
END:VTIMEZONE
BEGIN:VEVENT
UID:2485226:Event:91594
DTSTAMP:20260419T162724Z
SUMMARY:Sur le chemin de la Bienveillance
DESCRIPTION:bonjour\nsi l'information qui suit vous parle,\nparce que 
 vous avez participé à un stage\nque vous avez l'intention de vous jo
 indre\nà nous et que vous aimeriez partager l'expérience,\nmerci de 
 la diffuser auprès de vos ami(e)s et collègues\nen attendant passez 
 une belle fin d' été\net que la vie vous soit douce....\n\nSur le ch
 emin de la Bienveillance,\nen accord avec vous-même\net en phase avec
  la nature et les autres\nSi vous avez remarqué que votre tonus et vo
 s états d'âme variaient\net qu'il vous arrivait de ramer\nà contre 
 courant le stage pratique,\nconcentré et ludique que je vous propose\
 ndimanche 12 Septembre\nde 10h à 18h30 à Paris\nrépondra à beaucou
 p de vos interrogations\n\nFaisant du temps un allié,\nvous prendrez 
 vos décisions à bon escient,\nferez moins d'effort et vos relations 
 seront plus agréables\n\nEn replaçant les évènements importants de
  votre vie dans leur contexte\nénergétique et temporel vous en compr
 endrez le sens et la nécessité\nà la lumière des changements qu'il
 s ont apportés dans votre vie.\nLes thérapeutes, les enseignants,\nl
 es éducateurs et les autres\ntrouveront dans ce stage des information
 s qu'ils pourront utiliser\ndans leur vie privée et professionnelle\n
 \nQuand vous en aurez la possibilité,\nvous choisirez les dates de vo
 s interventions et de vos activités en fonction du but\nque vous souh
 aitez atteindre.\nQuand vous n’aurez pas le choix, vous saurez vous 
 adapter.\n\nPAF / 100E par personne\n180E si vous venez à 2\n\nUn sta
 ge peut être programmé à la date de votre choix\nà partir de 4 per
 sonnes à Paris et de 6 personnes dans la région de Nîmes\n\nConsult
 ations / Orientation sur RV\nConnaissance de soi Bilan des talents\nÉ
 tude des relations privées et professionnelles\nConstitution et dynam
 isation des équipes de travail .\n\nCompagnie Sarah Maïa\n01 43 31 6
 5 88 / 06 09 75 93 46\nsarahmaia9@yahoo.fr\nhttp://sites.google.com/si
 te/amour-et-creativite\n\nBien que conçu comme un tout,\nne tenant co
 mpte que des interactions\nentre le Soleil, la Lune, la Terre et Nous,
 \nce stage peut constituer pour celles et ceux\nqui aimeraient aller p
 lus loin le module de base d'un enseignement qui sera dispensé en 12 
 ateliers qui se dérouleront à Paris à partir du 6 octobre\net en Pr
 ovince dans la très belle région de Nîmes.\n\nNous nous réunirons\
 nun ou 2 mercredi par mois de 19h à 22h\npremière rencontre le 6 oct
 obre\nMerci aux personnes intéressées de bien vouloir se manifester 
 !\nles rencontres suivantes seront choisies ensemble ! nous nous adapt
 erons\naux disponibilités de chacun !!!\nPAF : 50E / le module\n\nPou
 r plus d'information, aller sur https://epanews.fr/events/sur-le-chemi
 n-de-la
DTSTART;TZID=Europe/Paris:20100912T100000
DTEND;TZID=Europe/Paris:20100912T183000
CATEGORIES:75
LOCATION:paris 75012
WEBSITE:http://sites.google.com/site/amour-et-creativite
URL:http://sites.google.com/site/amour-et-creativite
CONTACT:01 43 31 65 88 / 06 09 75 93 46
ORGANIZER;CN=SarahMaïa:https://epanews.fr/profile/SarahMaia
ATTACH;FMTTYPE="image/jpeg":
ATTENDEE;ROLE=REQ-PARTICIPANT;PARTSTAT=ACCEPTED;RSVP=TRUE;CN=SarahMaï
 a:https://epanews.fr/profile/SarahMaia
END:VEVENT
END:VCALENDAR
