BEGIN:VCALENDAR
PRODID:NingEventWidget-v1
VERSION:2.0
METHOD:PUBLISH
BEGIN:VTIMEZONE
TZID:Europe/Paris
X-LIC-LOCATION:Europe/Paris
BEGIN:DAYLIGHT
TZOFFSETFROM:+0100
TZOFFSETTO:+0200
TZNAME:CEST
DTSTART:19700329T020000
RRULE:FREQ=YEARLY;BYMONTH=3;BYDAY=-1SU
END:DAYLIGHT
BEGIN:STANDARD
TZOFFSETFROM:+0200
TZOFFSETTO:+0100
TZNAME:CET
DTSTART:19701025T030000
RRULE:FREQ=YEARLY;BYMONTH=10;BYDAY=-1SU
END:STANDARD
END:VTIMEZONE
BEGIN:VEVENT
UID:2485226:Event:1282140
DTSTAMP:20260423T072706Z
SUMMARY:SuperVision-ClaireVision pour thérapeutes, accompagnants...
DESCRIPTION:Un appel à tous ceux qui sont en relation d'aide, de comm
 unication, de relations humaines, et qui souhaitent s'offrir:  - Un e
 space ouvert, dynamique et experientiel, pour se ressourcer .  - Clar
 ifier, éclairer, dynamiser ce que vous rencontrez dans votre pratique
 . Reconnaître les enseignements.  - Nourrir une communication non-vi
 olente, consciente , éclairée; Notion du transfert, contre-transfert
 , projections, etc  - Ancrer et approfondir votre assise; sur des bas
 es de présence, d'écoute et de silence.  - Reconnaître, écoutez e
 t développer votre Intuition,  - Exprimer des gestes, actions , paro
 les dont la source est le coeur du VIVANT et qui soutiennent la SOURCE
  du VIVANT, l'ETRE chez vos clients; au delà des mécanismes de prote
 ction, des conditionnements, des projections, qui entretiennent l'égo
  et le cercle vicieux de la souffrance.  - Voir le \"rôle\" et le \"
 personnage du thérapeute\" et les pièges de l'égo; même l'égo spi
 rituel.\n\"Deux coeurs qui se rencontrent et respirent ensemble… un 
 temps d'éternité…. retrouvent et goûtent à leur nature véritabl
 e. La guérison se fait et la paix est au rendez-vous\".\n6 journées/
 année\nAvec tout mon amour  et Gratitude  Aashti\n\nPour plus d'inf
 ormation, aller sur https://epanews.fr/events/supervision-clairevision
DTSTART;TZID=Europe/Paris:20130429T000000
DTEND;TZID=Europe/Paris:20130429T235900
CATEGORIES:59
LOCATION:Lille
WEBSITE:http://www.ecoleintuition.com
URL:http://www.ecoleintuition.com
CONTACT:06 03 37 30 13
ORGANIZER;CN=Aashti:https://epanews.fr/profile/Aashti
ATTACH;FMTTYPE="image/jpeg":http://storage.ning.com/topology/rest/1.0/
 file/get/1662803879?profile=original
ATTENDEE;ROLE=REQ-PARTICIPANT;PARTSTAT=ACCEPTED;RSVP=TRUE;CN=Aashti:ht
 tps://epanews.fr/profile/Aashti
END:VEVENT
END:VCALENDAR
